BEGIN:VCALENDAR
VERSION:2.0
PRODID:-//ChamberMaster//Event Calendar 2.0//EN
METHOD:PUBLISH
X-PUBLISHED-TTL:P3D
REFRESH-INTERVAL:P3D
CALSCALE:GREGORIAN
BEGIN:VEVENT
DTSTART:20200716T140000Z
DTEND:20200716T150000Z
X-MICROSOFT-CDO-ALLDAYEVENT:FALSE
SUMMARY:Grow with Google Webinar
DESCRIPTION:Join Google for a free virtual workshop\, Connect with Customers and Manage Your Business Remotely. Learn how to update critical information about your business online and keep customers informed during the COVID-19 crisis.\n\n \n\nThis training is hosted by U.S. Representative Buddy Carter\, the Marshes of Glynn Libraries and the Connected Commerce Council. The workshop will be facilitated by a Grow with Google Trainer.
X-ALT-DESC;FMTTYPE=text/html:<span style="font-family:calibri\,sans-serif\;"><span style="font-size:11.0pt\;">Join Google for a free virtual workshop\, <em>Connect with Customers and Manage Your Business Remotely</em>. Learn how to update critical information about your business online and keep customers informed during the COVID-19 crisis.</span></span><br />\n&nbsp\;<br />\n<span style="font-family:calibri\,sans-serif\;"><span style="font-size:11.0pt\;">This training is hosted by U.S. Representative Buddy Carter\, the Marshes of Glynn Libraries and the Connected Commerce Council. The workshop will be facilitated by a Grow with Google Trainer.</span></span>
LOCATION:
UID:e.184.11836
SEQUENCE:3
DTSTAMP:20260426T001738Z
URL:https://business.douglascountygeorgia.com/events/details/grow-with-google-webinar-11836
END:VEVENT

END:VCALENDAR
