BEGIN:VCALENDAR
VERSION:2.0
PRODID:-//ChamberMaster//Event Calendar 2.0//EN
METHOD:PUBLISH
X-PUBLISHED-TTL:P3D
REFRESH-INTERVAL:P3D
CALSCALE:GREGORIAN
BEGIN:VEVENT
DTSTART:20200423T130000Z
DTEND:20200423T143000Z
X-MICROSOFT-CDO-ALLDAYEVENT:FALSE
SUMMARY:Harvester Christian Academy Open House
DESCRIPTION:Join us for a tour of our school\, seeing our teachers and students in action. Learn about all the opportunities that await your child at Harvester Christian Academy\, ask questions\, and see why Niche.com named us a "Best Schools of 2020" and "Best Private School in Douglas County." Bring your child or come alone\, all are welcome.
X-ALT-DESC;FMTTYPE=text/html:<span style="color:rgb(29\, 33\, 41)\; font-family:system-ui\,-apple-system\,blinkmacsystemfont\,.sfnstext-regular\,sans-serif\; font-size:14px">Join us for a tour of our school\, seeing our teachers and students in action. Learn about all the opportunities that await your child at Harvester Christian Academy\, ask questions\, and see why </span><a href="https://l.facebook.com/l.php?u=http%3A%2F%2FNiche.com%2F%3Ffbclid%3DIwAR3UpiG1z0xtB2_OVgGw-EdtKD2rbO5LDYw0RjxB6g8y-7f-8OIev4xgE_w&amp\;h=AT23rLZXwWzRg-y9UBhxPwh_hHs7bosSs1Kt_TRi7i1HelB48fg0uQ9-B0MRPXlaqIn7Sqzt2syLKpMuMiOBRA58vEWuHpfIQ9u00WUgL7V1JfCx09HtefAWeUCvttwAcCrbGSbRTg" rel="nofollow noopener" style="color: rgb(56\, 88\, 152)\; cursor: pointer\; text-decoration: none\; font-family: system-ui\, -apple-system\, BlinkMacSystemFont\, &quot\;.SFNSText-Regular&quot\;\, sans-serif\; font-size: 14px\; white-space: pre-wrap\;" target="_blank">Niche.com</a><span style="color:rgb(29\, 33\, 41)\; font-family:system-ui\,-apple-system\,blinkmacsystemfont\,.sfnstext-regular\,sans-serif\; font-size:14px"> named us a &quot\;Best Schools of 2020&quot\; and &quot\;Best Private School in Douglas County.&quot\; Bring your child or come alone\, all are welcome.</span>
LOCATION:4241 Central Church Road\, Douglasville\, GA 30135
UID:e.184.11350
SEQUENCE:3
DTSTAMP:20260425T225651Z
URL:https://business.douglascountygeorgia.com/events/details/harvester-open-house-11350
END:VEVENT

END:VCALENDAR
