BEGIN:VCALENDAR
VERSION:2.0
PRODID:-//ChamberMaster//Event Calendar 2.0//EN
METHOD:PUBLISH
X-PUBLISHED-TTL:P3D
REFRESH-INTERVAL:P3D
CALSCALE:GREGORIAN
BEGIN:VEVENT
DTSTART:20251029T140000Z
DTEND:20251029T160000Z
X-MICROSOFT-CDO-ALLDAYEVENT:FALSE
SUMMARY:Inclusion Works: Building Accessible and Inclusive Workplaces for All
DESCRIPTION:Join us for a powerful Workshop in Collaboration with Grateful Hands\, Inc. in recognition of National Disability Employment Awareness Month (NDEAM)!\n\n \n\nLearn how to strengthen your workforce through inclusive hiring\, understand ADA requirements\, explore real-life success stories\, and gain actionable strategies for creating equitable\, accessible workplaces.\n\n \n\nFeatured speakers from:\n\n	Bobby Dodd Institute\n	Public Sector Workforce Management & Labor Relations\n	Legal experts on ADA compliance\n\n  \n\nDuring the workshop\, you'll learn about the benefits of hiring people with disabilities\, how to create inclusive recruiting\, onboarding\, and retention practices\, and what your legal responsibilities are when it comes to reasonable accommodations. You'll also gain insight into tax incentives and the broader community impact of inclusive employment.\n\n \n\nLet's work together to build a community where everyone can thrive. Register today and be part of the change.\n\n\n\n\nJoin the Conversation: Join the meeting now
X-ALT-DESC;FMTTYPE=text/html:<div><span style="font-size:14px\;"><span style="color:black\;"><span style="font-family:arial\,sans-serif\;">Join us for a powerful Workshop in Collaboration with Grateful Hands\, Inc. in recognition of National Disability Employment Awareness Month (NDEAM)!</span></span><br />\n&nbsp\;<br />\n<span style="color:black\;"><span style="font-family:arial\,sans-serif\;">Learn how to strengthen your workforce through inclusive hiring\, understand ADA requirements\, explore real-life success stories\, and gain actionable strategies for creating equitable\, accessible workplaces.</span></span><br />\n&nbsp\;<br />\n<span style="color:black\;"><span style="font-family:arial\,sans-serif\;">Featured speakers from:</span></span></span>\n<ul>\n	<li style="color:black\;"><span style="font-size:14px\;"><span style="font-family:arial\,sans-serif\;">Bobby Dodd Institute</span></span></li>\n	<li style="color:black\;">Public Sector Workforce Management &amp\; Labor Relations</li>\n	<li style="color:black\;"><span style="font-size:14px\;"><span style="font-family:arial\,sans-serif\;">Legal experts on ADA compliance</span></span></li>\n</ul>\n<span style="font-size:14px\;"> &nbsp\;<br />\n<span style="color:black\;"><span style="font-family:arial\,sans-serif\;">During the workshop\, you&rsquo\;ll learn about the benefits of hiring people with disabilities\, how to create inclusive recruiting\, onboarding\, and retention practices\, and what your legal responsibilities are when it comes to reasonable accommodations. You&rsquo\;ll also gain insight into tax incentives and the broader community impact of inclusive employment.</span></span><br />\n&nbsp\;<br />\n<span style="color:black\;"><span style="font-family:arial\,sans-serif\;">Let&rsquo\;s work together to build a community where everyone can thrive.&nbsp\;Register today and be part of the change.</span></span></span></div>\n<br />\n<br />\n<span style="font-size:14px\;">Join the Conversation:&nbsp\;<span style="font-family: &quot\;Segoe UI&quot\;\, &quot\;Helvetica Neue&quot\;\, Helvetica\, Arial\, sans-serif\; color: rgb(91\, 95\, 199)\; font-weight: 600\;"><u><a class="x_me-email-headline OWAAutoLink" data-auth="NotApplicable" href="https://teams.microsoft.com/l/meetup-join/19%3ameeting_ZmZlY2YwMjQtMTJjYS00MDRiLThiYzItZDliNDFmMWJjMTZm%40thread.v2/0?context=%7b%22Tid%22%3a%2255c717f9-e63f-40a7-a90e-1aa39923afc1%22%2c%22Oid%22%3a%22f9262b7b-db78-48d0-b38b-fce62d62aab8%22%7d" id="x_meet_invite_block.action.join_link" rel="noreferrer noopener" style="color: rgb(91\, 95\, 199)\;" target="_blank" title="Meeting join link">Join&nbsp\;the&nbsp\;meeting&nbsp\;now</a></u></span></span>
LOCATION:DCC - Large Conference Room or Virtual
UID:e.184.16792
SEQUENCE:3
DTSTAMP:20260422T201426Z
URL:https://business.douglascountygeorgia.com/events/details/inclusion-works-building-accessible-and-inclusive-workplaces-for-all-16792
END:VEVENT

END:VCALENDAR
