BEGIN:VCALENDAR
VERSION:2.0
PRODID:-//ChamberMaster//Event Calendar 2.0//EN
METHOD:PUBLISH
X-PUBLISHED-TTL:P3D
REFRESH-INTERVAL:P3D
CALSCALE:GREGORIAN
BEGIN:VEVENT
DTSTART:20200402T210000Z
DTEND:20200402T230000Z
X-MICROSOFT-CDO-ALLDAYEVENT:FALSE
SUMMARY:It's About Blooming Time - Opening reception
DESCRIPTION:Making their vibrant Spring 2020 debut\, artists Martin Pate\, Nikki Davidson\, Heidi Hunt\, and Cathy Clodfelter cultivate a collection of blossoming works.\n\n\n\nOpening reception to admire the works budding the Cultural Art Center walls Thursday\, April 2\, 2020\, 5 --7 p.m.\n\nFree and open to the public\n\nCultural Arts Center Douglasville/ Douglas County\n\n8652 Campbellton St.\n\nDouglasville\, GA 30134\n\n\n\nOn view April 2nd - April 30th\, 2020\n\nFree admission and open to the public\n\nMonday - Friday\, 9 am - 5 pm
X-ALT-DESC;FMTTYPE=text/html:<span style="background-color:rgb(255\, 255\, 255)\; color:rgb(29\, 33\, 41)\; font-family:helvetica\,arial\,sans-serif\; font-size:14px">Making their vibrant Spring 2020 debut\, artists Martin Pate\, Nikki Davidson\, Heidi Hunt\, and Cathy Clodfelter cultivate a collection of blossoming works.</span><br />\n<br />\n<span style="background-color:rgb(255\, 255\, 255)\; color:rgb(29\, 33\, 41)\; font-family:helvetica\,arial\,sans-serif\; font-size:14px">Opening reception to admire the works budding the Cultural Art Center walls Thursday\, April 2\, 2020\, 5 --7 p.m.</span><br />\n<span style="background-color:rgb(255\, 255\, 255)\; color:rgb(29\, 33\, 41)\; font-family:helvetica\,arial\,sans-serif\; font-size:14px">Free and open to the public</span><br />\n<span style="background-color:rgb(255\, 255\, 255)\; color:rgb(29\, 33\, 41)\; font-family:helvetica\,arial\,sans-serif\; font-size:14px">Cultural Arts Center Douglasville/ Douglas County</span><br />\n<span style="background-color:rgb(255\, 255\, 255)\; color:rgb(29\, 33\, 41)\; font-family:helvetica\,arial\,sans-serif\; font-size:14px">8652 Campbellton St.</span><br />\n<span style="background-color:rgb(255\, 255\, 255)\; color:rgb(29\, 33\, 41)\; font-family:helvetica\,arial\,sans-serif\; font-size:14px">Douglasville\, GA 30134</span><br />\n<br />\n<span style="background-color:rgb(255\, 255\, 255)\; color:rgb(29\, 33\, 41)\; font-family:helvetica\,arial\,sans-serif\; font-size:14px">On view April 2nd - April 30th\, 2020</span><br />\n<span style="background-color:rgb(255\, 255\, 255)\; color:rgb(29\, 33\, 41)\; font-family:helvetica\,arial\,sans-serif\; font-size:14px">Free admission and open to the public</span><br />\n<span style="background-color:rgb(255\, 255\, 255)\; color:rgb(29\, 33\, 41)\; font-family:helvetica\,arial\,sans-serif\; font-size:14px">Monday - Friday\, 9 am - 5 pm</span>
LOCATION:Cultural Arts Center 8652 Campbellton St. Douglasville\, Ga. 30134
UID:e.184.11092
SEQUENCE:3
DTSTAMP:20260425T225645Z
URL:https://business.douglascountygeorgia.com/events/details/it-s-about-blooming-time-opening-reception-11092
END:VEVENT

END:VCALENDAR
