BEGIN:VCALENDAR
VERSION:2.0
PRODID:-//ChamberMaster//Event Calendar 2.0//EN
METHOD:PUBLISH
X-PUBLISHED-TTL:P3D
REFRESH-INTERVAL:P3D
CALSCALE:GREGORIAN
BEGIN:VEVENT
DTSTART;VALUE=DATE:20200601
DTEND;VALUE=DATE:20200701
TRANSP:TRANSPARENT
X-MICROSOFT-CDO-ALLDAYEVENT:TRUE
SUMMARY:June Pop Up Arts Shop
DESCRIPTION:June Pop Up Arts Shop featuring Grete Carder.  All items under $75.
X-ALT-DESC;FMTTYPE=text/html:June Pop Up Arts Shop featuring Grete Carder.&nbsp\; All items under $75.
LOCATION:Cultural Arts Council Douglasville/Douglas County 8652 Campbellton Street Douglasville\, GA 30134
UID:e.184.11423
SEQUENCE:3
DTSTAMP:20260425T225818Z
URL:https://business.douglascountygeorgia.com/events/details/june-pop-up-arts-shop-11423
END:VEVENT

END:VCALENDAR
