BEGIN:VCALENDAR
VERSION:2.0
PRODID:-//ChamberMaster//Event Calendar 2.0//EN
METHOD:PUBLISH
X-PUBLISHED-TTL:P3D
REFRESH-INTERVAL:P3D
CALSCALE:GREGORIAN
BEGIN:VEVENT
DTSTART:20250628T140000Z
DTEND:20250628T180000Z
X-MICROSOFT-CDO-ALLDAYEVENT:FALSE
SUMMARY:Just Love Coffee & Cafe - Block Party
DESCRIPTION:Please join us for a Member Milestone. Just Love Coffee & Cafe is turning 1!\n\n\n\nMember Milestone ceremonies are a free service that we provide to Chamber Investors. These events offer businesses the chance to invite members\, the Board of Directors\, Chamber Ambassadors\, and City and County officials to their location as well as speak about their business.
X-ALT-DESC;FMTTYPE=text/html:<span data-teams="true" style="color: rgb(0\, 34\, 64)\; font-family: arial\; font-size: 16px\; box-sizing: border-box\;"><span class="ui-provider a b c d e f g h i j k l m n o p q r s t u v w x y z ab ac ae af ag ah ai aj ak" dir="ltr" style="box-sizing: border-box\;">Please join us for a Member Milestone. Just Love Coffee &amp\; Cafe is turning 1!</span></span><br style="color: rgb(0\, 34\, 64)\; font-family: arial\; font-size: 16px\; box-sizing: border-box\;" />\n<br style="color: rgb(0\, 34\, 64)\; font-family: arial\; font-size: 16px\; box-sizing: border-box\;" />\n<span style="color: rgb(0\, 34\, 64)\; font-family: arial\; font-size: 16px\;">Member Milestone ceremonies are a free service that we provide to Chamber Investors. These events offer businesses the chance to invite members\, the Board of Directors\, Chamber Ambassadors\, and City and County officials to their location as well as speak about their business.</span>
LOCATION:1851 Market Street\, Suite H104 Douglasville\, GA 30135
UID:e.184.16439
SEQUENCE:3
DTSTAMP:20260424T160307Z
URL:https://business.douglascountygeorgia.com/events/details/just-love-coffee-cafe-block-party-16439
END:VEVENT

END:VCALENDAR
