BEGIN:VCALENDAR
VERSION:2.0
PRODID:-//ChamberMaster//Event Calendar 2.0//EN
METHOD:PUBLISH
X-PUBLISHED-TTL:P3D
REFRESH-INTERVAL:P3D
CALSCALE:GREGORIAN
BEGIN:VEVENT
DTSTART:20260226T220000Z
DTEND:20260227T003000Z
X-MICROSOFT-CDO-ALLDAYEVENT:FALSE
SUMMARY:LD Legacy in Leadership
DESCRIPTION:Register Here
X-ALT-DESC;FMTTYPE=text/html:<a href="https://event.auctria.com/d2c98c00-0170-440e-8990-e33916ffe232/"><u><strong>Register Here</strong></u></a><br />\n&nbsp\;
LOCATION:
UID:e.184.17226
SEQUENCE:3
DTSTAMP:20260422T153554Z
URL:https://business.douglascountygeorgia.com/events/details/ld-legacy-in-leadership-17226
END:VEVENT

END:VCALENDAR
