BEGIN:VCALENDAR
VERSION:2.0
PRODID:-//ChamberMaster//Event Calendar 2.0//EN
METHOD:PUBLISH
X-PUBLISHED-TTL:P3D
REFRESH-INTERVAL:P3D
CALSCALE:GREGORIAN
BEGIN:VEVENT
DTSTART:20260402T120000Z
DTEND:20260402T210000Z
X-MICROSOFT-CDO-ALLDAYEVENT:FALSE
SUMMARY:LD Session 8
DESCRIPTION:
X-ALT-DESC;FMTTYPE=text/html:
LOCATION:
UID:e.184.16978
SEQUENCE:3
DTSTAMP:20260420T214528Z
URL:https://business.douglascountygeorgia.com/events/details/ld-session-8-16978
END:VEVENT

END:VCALENDAR
