BEGIN:VCALENDAR
VERSION:2.0
PRODID:-//ChamberMaster//Event Calendar 2.0//EN
METHOD:PUBLISH
X-PUBLISHED-TTL:P3D
REFRESH-INTERVAL:P3D
CALSCALE:GREGORIAN
BEGIN:VEVENT
DTSTART:20250724T210000Z
DTEND:20250724T230000Z
X-MICROSOFT-CDO-ALLDAYEVENT:FALSE
SUMMARY:Leadership Douglas Alumni Social
DESCRIPTION:Leadership Douglas Alumni and the LD Class of 2026 are invited to attend the Annual LD Alumni Social. This event is an opportunity to meet the new class\, socialize with former classmates\, and determine who the best class ever is (PS - it's the class with the most alumni present!). This event will be held at the Cultural Arts Center of Douglasville-Douglas County and will be during their Summer Pop-Up. There will be food trucks\, live music\, and vendors. The Chamber will cover food and beverages at no cost to you. We will also be collecting alumni dues. This is a family friendly event so please feel free to bring yours.
X-ALT-DESC;FMTTYPE=text/html:Leadership Douglas Alumni and the LD Class of 2026 are invited to attend the Annual LD Alumni Social. This event is an opportunity to meet the new class\, socialize with former classmates\, and determine who the best class ever is (PS - it&#39\;s the class with the most alumni present!). This event will be held at the Cultural Arts Center of Douglasville-Douglas County and will be during their Summer Pop-Up. There will be food trucks\, live music\, and vendors. The Chamber will cover food and beverages at no cost to you. We will also be collecting alumni dues. This is a family friendly event so please feel free to bring yours.&nbsp\;&nbsp\;
LOCATION:Cultural Arts Center 8652 Campbellton St. Douglasville
UID:e.184.16456
SEQUENCE:3
DTSTAMP:20260424T122112Z
URL:https://business.douglascountygeorgia.com/events/details/leadership-douglas-alumni-social-16456
END:VEVENT

END:VCALENDAR
