BEGIN:VCALENDAR
VERSION:2.0
PRODID:-//ChamberMaster//Event Calendar 2.0//EN
METHOD:PUBLISH
X-PUBLISHED-TTL:P3D
REFRESH-INTERVAL:P3D
CALSCALE:GREGORIAN
BEGIN:VEVENT
DTSTART:20200305T130000Z
DTEND:20200305T220000Z
X-MICROSOFT-CDO-ALLDAYEVENT:FALSE
SUMMARY:Leadership Douglas Meeting
DESCRIPTION:Leadership Douglas selects diverse and qualified individuals to provide a structured program that enhances leadership skills and community involvement for the betterment of all citizens\, businesses\, organizations and governments in Douglas County.
X-ALT-DESC;FMTTYPE=text/html:<span style="font-size:14px\;"><span style="font-family:arial\;">Leadership Douglas selects diverse and qualified individuals to provide a structured program that enhances leadership skills and community involvement for the betterment of all citizens\, businesses\, organizations and governments in Douglas County.</span></span>
LOCATION:
UID:e.184.11013
SEQUENCE:3
DTSTAMP:20260426T020005Z
URL:https://business.douglascountygeorgia.com/events/details/leadership-douglas-meeting-03-05-2020-11013
END:VEVENT

END:VCALENDAR
