BEGIN:VCALENDAR
VERSION:2.0
PRODID:-//ChamberMaster//Event Calendar 2.0//EN
METHOD:PUBLISH
X-PUBLISHED-TTL:P3D
REFRESH-INTERVAL:P3D
CALSCALE:GREGORIAN
BEGIN:VEVENT
DTSTART:20200302T220000Z
DTEND:20200302T230000Z
X-MICROSOFT-CDO-ALLDAYEVENT:FALSE
SUMMARY:Leap Into Rotary
DESCRIPTION:Have you been looking for a new way to plug into the Douglas County community? This event is for YOU!\n\n\n\nEnjoy refreshments\, non-alcoholic beverages and networking with current and prospective Rotarians!
X-ALT-DESC;FMTTYPE=text/html:Have you been looking for a new way to plug into the Douglas County community? This event is for YOU!<br />\n<br />\nEnjoy refreshments\, non-alcoholic beverages and networking with current and prospective Rotarians!
LOCATION:Sam & Rosco's Restaurant 7450 Douglas Boulevard Douglasville\, GA 30135
UID:e.184.11313
SEQUENCE:3
DTSTAMP:20260426T015333Z
URL:https://business.douglascountygeorgia.com/events/details/leap-into-rotary-11313
END:VEVENT

END:VCALENDAR
