BEGIN:VCALENDAR
VERSION:2.0
PRODID:-//ChamberMaster//Event Calendar 2.0//EN
METHOD:PUBLISH
X-PUBLISHED-TTL:P3D
REFRESH-INTERVAL:P3D
CALSCALE:GREGORIAN
BEGIN:VEVENT
DTSTART:20200321T150000Z
DTEND:20200321T180000Z
X-MICROSOFT-CDO-ALLDAYEVENT:FALSE
SUMMARY:Mad Hatter's Tea Party 2020
DESCRIPTION:Presented by the Cultural Arts Council of Douglasville/Douglas County\, we invite you to join Alice and the gang in their fun adventures this March!\n\n\n\nThis year enjoy flamingo croquet\, story-telling\, cookie-decorating\, egg-hunting\, pin the tail on the Cheshire cat\, and tea-party fun! For just $10 per person\, you can spend as long as you'd like between 11 am and 2 pm in the company of the Mad Hatter\, White Rabbit\, Cheshire Cat\, Red Queen\, White Queen\, and of course\, Alice.
X-ALT-DESC;FMTTYPE=text/html:<span style="background-color:rgb(255\, 255\, 255)\; color:rgb(29\, 33\, 41)\; font-family:helvetica\,arial\,sans-serif\; font-size:14px">Presented by the Cultural Arts Council of Douglasville/Douglas County\, we invite you to join Alice and the gang in their fun adventures this March!</span><br />\n<br />\n<span style="background-color:rgb(255\, 255\, 255)\; color:rgb(29\, 33\, 41)\; font-family:helvetica\,arial\,sans-serif\; font-size:14px">This year enjoy flamingo croquet\, story-telling\, cookie-decorating\, egg-hunting\, pin the tail on the Cheshire cat\, and tea-party fun! For just $10 per person\, you can spend as long as you&#39\;d like between 11 am and 2 pm in the company of the Mad Hatter\, White Rabbit\, Cheshire Cat\, Red Queen\, White Queen\, and of course\, Alice.</span>
LOCATION:Cultural Arts Council 8652 Campbellton Street Douglasville\, GA 30134
UID:e.184.11295
SEQUENCE:3
DTSTAMP:20260426T001938Z
URL:https://business.douglascountygeorgia.com/events/details/mad-hatter-s-tea-party-2020-11295
END:VEVENT

END:VCALENDAR
