BEGIN:VCALENDAR
VERSION:2.0
PRODID:-//ChamberMaster//Event Calendar 2.0//EN
METHOD:PUBLISH
X-PUBLISHED-TTL:P3D
REFRESH-INTERVAL:P3D
CALSCALE:GREGORIAN
BEGIN:VEVENT
DTSTART:20200302T140000Z
DTEND:20200331T210000Z
X-MICROSOFT-CDO-ALLDAYEVENT:FALSE
SUMMARY:March Pop Up Arts Shop
DESCRIPTION:March Pop Up Arts Shop featuring Carol Collins.  Artworks and crafts starting at just $5.
X-ALT-DESC;FMTTYPE=text/html:March Pop Up Arts Shop featuring Carol Collins.&nbsp\; Artworks and crafts starting at just $5.
LOCATION:Cultural Arts Council 8652 Campbellton Street Douglasville\, GA 30134
UID:e.184.9159
SEQUENCE:3
DTSTAMP:20260426T003053Z
URL:https://business.douglascountygeorgia.com/events/details/march-pop-up-arts-shop-9159
END:VEVENT

END:VCALENDAR
