BEGIN:VCALENDAR
VERSION:2.0
PRODID:-//ChamberMaster//Event Calendar 2.0//EN
METHOD:PUBLISH
X-PUBLISHED-TTL:P3D
REFRESH-INTERVAL:P3D
CALSCALE:GREGORIAN
BEGIN:VEVENT
DTSTART:20200305T180000Z
DTEND:20200305T190000Z
X-MICROSOFT-CDO-ALLDAYEVENT:FALSE
SUMMARY:Maximizing Your Marketing Dollars Webinar
DESCRIPTION:Get the most out of your exhibit investment by learning tips and tricks from marketing expert Ken Hammock. With over 35 years marketing experience\, including dozens of trade shows across the country\, Ken will share ways to maximize your presentation at events to grow your business.
X-ALT-DESC;FMTTYPE=text/html:Get the most out of your exhibit investment by learning tips and tricks from marketing expert Ken Hammock. With over 35 years marketing experience\, including dozens of trade shows across the country\, Ken will share ways to maximize your presentation at events to grow your business.
LOCATION:
UID:e.184.11316
SEQUENCE:3
DTSTAMP:20260426T001926Z
URL:https://business.douglascountygeorgia.com/events/details/maximizing-your-marketing-dollars-webinar-11316
END:VEVENT

END:VCALENDAR
