BEGIN:VCALENDAR
VERSION:2.0
PRODID:-//ChamberMaster//Event Calendar 2.0//EN
METHOD:PUBLISH
X-PUBLISHED-TTL:P3D
REFRESH-INTERVAL:P3D
CALSCALE:GREGORIAN
BEGIN:VEVENT
DTSTART:20200501T130000Z
DTEND:20200529T210000Z
X-MICROSOFT-CDO-ALLDAYEVENT:FALSE
SUMMARY:May Pop Up Arts Shop
DESCRIPTION:May Pop Up Arts Shop featuring Penelope Davis.  Artworks and crafts starting at just $5.
X-ALT-DESC;FMTTYPE=text/html:May Pop Up Arts Shop featuring Penelope Davis.&nbsp\; Artworks and crafts starting at just $5.
LOCATION:Cultural Arts Council 8652 Campbellton Street Douglasville\, GA 30134
UID:e.184.9161
SEQUENCE:3
DTSTAMP:20260425T225803Z
URL:https://business.douglascountygeorgia.com/events/details/may-pop-up-arts-shop-9161
END:VEVENT

END:VCALENDAR
