BEGIN:VCALENDAR
VERSION:2.0
PRODID:-//ChamberMaster//Event Calendar 2.0//EN
METHOD:PUBLISH
X-PUBLISHED-TTL:P3D
REFRESH-INTERVAL:P3D
CALSCALE:GREGORIAN
BEGIN:VEVENT
DTSTART:20200505T140000Z
DTEND:20200505T150000Z
X-MICROSOFT-CDO-ALLDAYEVENT:FALSE
SUMMARY:Morning Mingle Virtual Networking Event
DESCRIPTION:The office doors might be closed but the networking doesn't have to stop! The Chamber's mission to help our businesses connect and grow has never been more important. Join us every Tuesday to virtually network with other Chamber Members and market your business. See you there!
X-ALT-DESC;FMTTYPE=text/html:The office doors might be closed but the networking doesn&#39\;t have to stop! The Chamber&#39\;s mission to help our businesses connect and grow has never been more important. Join us every Tuesday to virtually network with other Chamber Members and market your business. See you there!&nbsp\;
LOCATION:Zoom link will be sent upon registration.
UID:e.184.11394
SEQUENCE:3
DTSTAMP:20260425T225646Z
URL:https://business.douglascountygeorgia.com/events/details/morning-mingle-virtual-networking-event-11394
END:VEVENT

END:VCALENDAR
