BEGIN:VCALENDAR
VERSION:2.0
PRODID:-//ChamberMaster//Event Calendar 2.0//EN
METHOD:PUBLISH
X-PUBLISHED-TTL:P3D
REFRESH-INTERVAL:P3D
CALSCALE:GREGORIAN
BEGIN:VEVENT
DTSTART:20200619T130000Z
DTEND:20200619T210000Z
X-MICROSOFT-CDO-ALLDAYEVENT:FALSE
SUMMARY:National Juried Art Show Submission Deadline
DESCRIPTION:Our annual National Juried Art Show at the Cultural Arts Center of Douglasville/Douglas County is now accepting submissions. Artists 18 years and older can submit up to three artworks in any medium (except for film/video) and the chance to have his or her artwork displayed in the exhibit. The exhibit will run September 3-25 with a reception on September 3\, 5-7 pm. Three judges will determine award recipients\, with prizes for 1st place\, 2nd Place\, 3rd Place\, and an Honorable Mention. For further information\, contact brittany.gilbert@artsdouglas.org or check our website at artsdouglas.org
X-ALT-DESC;FMTTYPE=text/html:<span style="background-color:rgb(255\, 255\, 255)\; color:rgb(29\, 33\, 41)\; font-family:helvetica\,arial\,sans-serif\; font-size:14px">Our annual National Juried Art Show at the Cultural Arts Center of Douglasville/Douglas County is now accepting submissions. Artists 18 years and older can submit up to three artworks in any medium (except for film/video) and the chance to have his or her artwork displayed in the exhibit. The exhibit will run September 3-25 with a reception on September 3\, 5-7 pm. Three judges will determine award recipients\, with prizes for 1st place\, 2nd Place\, 3rd Place\, and an Honorable Mention. For further information\, contact brittany.gilbert@artsdouglas.org or check our website at </span><a href="http://artsdouglas.org/?fbclid=IwAR0I9WRQPtC_B56JvqPw62pZonHZDtX6Zs6_gbTUxfMCP8qrKnhbMNEGbLQ" rel="nofollow noopener" style="color: rgb(56\, 88\, 152)\; cursor: pointer\; text-decoration-line: none\; font-family: Helvetica\, Arial\, sans-serif\; font-size: 14px\; white-space: pre-wrap\; background-color: rgb(255\, 255\, 255)\;" target="_blank">artsdouglas.org</a>
LOCATION:Cultural Arts Council of Douglasville/Douglas County 8652 Campbellton St. Douglasville\, GA. 30134
UID:e.184.11329
SEQUENCE:3
DTSTAMP:20260425T225946Z
URL:https://business.douglascountygeorgia.com/events/details/national-juried-art-show-submission-deadline-11329
END:VEVENT

END:VCALENDAR
