BEGIN:VCALENDAR
VERSION:2.0
PRODID:-//ChamberMaster//Event Calendar 2.0//EN
METHOD:PUBLISH
X-PUBLISHED-TTL:P3D
REFRESH-INTERVAL:P3D
CALSCALE:GREGORIAN
BEGIN:VEVENT
DTSTART:20200512T140000Z
DTEND:20200512T150000Z
X-MICROSOFT-CDO-ALLDAYEVENT:FALSE
SUMMARY:Next Level Networking
DESCRIPTION:The office doors might be closed but the networking doesn't have to stop! The Chamber's mission to help our businesses connect and grow has never been more important. Join us every Tuesday to virtually network with other Chamber Members and market your business. See you there!
X-ALT-DESC;FMTTYPE=text/html:The office doors might be closed but the networking doesn&#39\;t have to stop! The Chamber&#39\;s mission to help our businesses connect and grow has never been more important. Join us every Tuesday to virtually network with other Chamber Members and market your business. See you there!&nbsp\;
LOCATION:Zoom link is sent upon registration.
UID:e.184.11393
SEQUENCE:3
DTSTAMP:20260425T212453Z
URL:https://business.douglascountygeorgia.com/events/details/next-level-networking-05-12-2020-11393
END:VEVENT

END:VCALENDAR
