BEGIN:VCALENDAR
VERSION:2.0
PRODID:-//ChamberMaster//Event Calendar 2.0//EN
METHOD:PUBLISH
X-PUBLISHED-TTL:P3D
REFRESH-INTERVAL:P3D
CALSCALE:GREGORIAN
BEGIN:VEVENT
DTSTART:20200602T140000Z
DTEND:20200602T150000Z
X-MICROSOFT-CDO-ALLDAYEVENT:FALSE
SUMMARY:Next Level Networking
DESCRIPTION:The office doors might be closed but the networking doesn't have to stop! The Chamber's mission to help our businesses connect and grow has never been more important. Join us every Tuesday to virtually network with other Chamber Members and market your business. See you there! \n\n\n\nThis week's special guests are Kyle Gable\, from Pioneer Land Group and Chris Rentz from Pioneer Residential. They will share an update for the real estate market and how COVID-19 has impacted these areas.
X-ALT-DESC;FMTTYPE=text/html:The office doors might be closed but the networking doesn&#39\;t have to stop! The Chamber&#39\;s mission to help our businesses connect and grow has never been more important. Join us every Tuesday to virtually network with other Chamber Members and market your business. See you there!&nbsp\;<br />\n<br />\nThis week&#39\;s special guests are Kyle Gable\, from Pioneer Land Group and Chris Rentz from Pioneer Residential.&nbsp\;They will share an update for the real estate market and how COVID-19 has impacted these areas.<br />\n&nbsp\;
LOCATION:Zoom link is sent upon registration.
UID:e.184.11427
SEQUENCE:3
DTSTAMP:20260425T225506Z
URL:https://business.douglascountygeorgia.com/events/details/next-level-networking-11427
END:VEVENT

END:VCALENDAR
