BEGIN:VCALENDAR
VERSION:2.0
PRODID:-//ChamberMaster//Event Calendar 2.0//EN
METHOD:PUBLISH
X-PUBLISHED-TTL:P3D
REFRESH-INTERVAL:P3D
CALSCALE:GREGORIAN
BEGIN:VEVENT
DTSTART:20260203T140000Z
DTEND:20260203T153000Z
X-MICROSOFT-CDO-ALLDAYEVENT:FALSE
SUMMARY:Next Level Networking
DESCRIPTION:Join us on Tuesday\, February 3\, 2026\, from 9:00am to 10:30am at Harmony at Douglasville for Next Level Networking\, a dynamic\, high-energy experience designed to help you make meaningful connections quickly.\n\n \n\nThis interactive event brings together business and community leaders for strategic conversations\, fresh introductions\, and genuine opportunities to build relationships that last. Attendees are encouraged to come prepared to talk about themselves\, their business\, and what sets them apart\, as you never know which shared interest or conversation might spark your next great partnership.
X-ALT-DESC;FMTTYPE=text/html:<p style="box-sizing: inherit\; margin: 0px 0px 8px\; padding: 0px\; border: 0px\; font-size: 16px\; vertical-align: baseline\; color: rgb(50\, 51\, 56)\; font-family: Figtree\, Roboto\, &quot\;Noto Sans Hebrew&quot\;\, &quot\;Noto Kufi Arabic&quot\;\, &quot\;Noto Sans JP&quot\;\, sans-serif\; outline: none !important\;"><span style="font-size:14px\;"><span style="font-family:arial\;">Join us on Tuesday\, February 3\, 2026\, from 9:00am to 10:30am at&nbsp\;<strong style="box-sizing: inherit\; font-weight: bold\; margin: 0px\; padding: 0px\; border: 0px\; vertical-align: baseline\; outline: none !important\;">Harmony at Douglasville</strong>&nbsp\;for&nbsp\;<strong style="box-sizing: inherit\; font-weight: bold\; margin: 0px\; padding: 0px\; border: 0px\; vertical-align: baseline\; outline: none !important\;">Next Level Networking</strong>\, a dynamic\, high-energy experience designed to help you make meaningful connections quickly.</span></span></p>\n\n<p style="box-sizing: inherit\; margin: 0px 0px 8px\; padding: 0px\; border: 0px\; font-size: 16px\; vertical-align: baseline\; min-height: 1.5em\; color: rgb(50\, 51\, 56)\; font-family: Figtree\, Roboto\, &quot\;Noto Sans Hebrew&quot\;\, &quot\;Noto Kufi Arabic&quot\;\, &quot\;Noto Sans JP&quot\;\, sans-serif\; outline: none !important\;">&nbsp\;</p>\n\n<p style="box-sizing: inherit\; margin: 0px 0px 8px\; padding: 0px\; border: 0px\; font-size: 16px\; vertical-align: baseline\; color: rgb(50\, 51\, 56)\; font-family: Figtree\, Roboto\, &quot\;Noto Sans Hebrew&quot\;\, &quot\;Noto Kufi Arabic&quot\;\, &quot\;Noto Sans JP&quot\;\, sans-serif\; outline: none !important\;"><span style="font-size:14px\;"><span style="font-family:arial\;">This interactive event brings together business and community leaders for strategic conversations\, fresh introductions\, and genuine opportunities to build relationships that last. Attendees are encouraged to come prepared to talk about themselves\, their business\, and what sets them apart\, as you never know which shared interest or conversation might spark your next great partnership.</span></span></p>\n
LOCATION:Harmony at Douglasville | 4595 Timber Ridge Dr\, Douglasville\, GA 30135
UID:e.184.16931
SEQUENCE:3
DTSTAMP:20260422T135307Z
URL:https://business.douglascountygeorgia.com/events/details/next-level-networking-16931
END:VEVENT

END:VCALENDAR
