BEGIN:VCALENDAR
VERSION:2.0
PRODID:-//ChamberMaster//Event Calendar 2.0//EN
METHOD:PUBLISH
X-PUBLISHED-TTL:P3D
REFRESH-INTERVAL:P3D
CALSCALE:GREGORIAN
BEGIN:VEVENT
DTSTART:20250428T213000Z
DTEND:20250428T233000Z
X-MICROSOFT-CDO-ALLDAYEVENT:FALSE
SUMMARY:Non-Profit Meet-Up: Strategy & Heart in Action!
DESCRIPTION:Join us for an unforgettable evening of networking and collaboration at our Non-Profit Meet-Up on Monday\, April 28th\, from 5:30 PM - 7:30 PM! This complimentary event\, exclusively for nonprofit organizations\, is your chance to expand your network\, forge meaningful connections\, and explore impactful collaborations.\n\n\n\nSpecial Guest Speaker: Bianca Ash-Walker\n\nShe will share insights on combining strategy and heart to drive your mission forward! Don't miss this opportunity to gain valuable knowledge and connect with like-minded professionals.
X-ALT-DESC;FMTTYPE=text/html:<div class="ZKRKU" style="box-sizing: border-box\; margin: 0px\; padding: 0px\; border: 0px\; font-size: 15px\; vertical-align: baseline\; min-width: 110px\; overflow: hidden\; position: relative\; max-height: 300px\;">\n<div class="fV3Jt" style="box-sizing: border-box\; margin: 0px\; padding: 0px\; border: 0px\; vertical-align: baseline\; transition: max-height 0.14s\;">\n<div class="GOJZx" style="box-sizing: border-box\; margin: 0px\; padding: 0px\; border: 0px\; vertical-align: baseline\; display: flex\; flex-direction: row\;">\n<div class="agPPc U4hHe hWX7X fs-mask" style="box-sizing: border-box\; margin: 0px\; padding-top: 0px\; padding-right: 0px\; padding-bottom: 0px\; padding-left: var(--spacing-small)\; border: 0px\; font-size: 1em\; vertical-align: baseline\; overflow: auto\; position: relative\; width: 626px\; word-break: break-word\; color: var(--primary-text-color)\; font-family: var(--font-family)\; line-height: 1.5\; user-select: text\;">\n<p style="box-sizing: inherit\; margin-top: 0px\; margin-right: 0px\; margin-bottom: var(--spacing-small)\; margin-left: 0px\; padding: 0px\; border: 0px\; vertical-align: baseline\; outline: none !important\;"><span style="color: rgb(50\, 51\, 56)\; font-family: Figtree\, Roboto\, &quot\;Noto Sans Hebrew&quot\;\, &quot\;Noto Kufi Arabic&quot\;\, &quot\;Noto Sans JP&quot\;\, sans-serif\; font-size: 15px\;">Join us for an unforgettable evening of networking and collaboration at our Non-Profit Meet-Up on Monday\, April 28th\, from 5:30 PM - 7:30 PM! This complimentary event\, exclusively for nonprofit organizations\, is your chance to expand your network\, forge meaningful connections\, and explore impactful collaborations.</span><br style="box-sizing: inherit\; color: rgb(50\, 51\, 56)\; font-family: Figtree\, Roboto\, &quot\;Noto Sans Hebrew&quot\;\, &quot\;Noto Kufi Arabic&quot\;\, &quot\;Noto Sans JP&quot\;\, sans-serif\; font-size: 15px\; outline: none !important\;" />\n<br style="box-sizing: inherit\; color: rgb(50\, 51\, 56)\; font-family: Figtree\, Roboto\, &quot\;Noto Sans Hebrew&quot\;\, &quot\;Noto Kufi Arabic&quot\;\, &quot\;Noto Sans JP&quot\;\, sans-serif\; font-size: 15px\; outline: none !important\;" />\n<span style="color: rgb(50\, 51\, 56)\; font-family: Figtree\, Roboto\, &quot\;Noto Sans Hebrew&quot\;\, &quot\;Noto Kufi Arabic&quot\;\, &quot\;Noto Sans JP&quot\;\, sans-serif\; font-size: 15px\;">Special Guest Speaker: Bianca Ash-Walker</span><br style="box-sizing: inherit\; color: rgb(50\, 51\, 56)\; font-family: Figtree\, Roboto\, &quot\;Noto Sans Hebrew&quot\;\, &quot\;Noto Kufi Arabic&quot\;\, &quot\;Noto Sans JP&quot\;\, sans-serif\; font-size: 15px\; outline: none !important\;" />\n<span style="color: rgb(50\, 51\, 56)\; font-family: Figtree\, Roboto\, &quot\;Noto Sans Hebrew&quot\;\, &quot\;Noto Kufi Arabic&quot\;\, &quot\;Noto Sans JP&quot\;\, sans-serif\; font-size: 15px\;">She will share insights on combining strategy and heart to drive your mission forward! Don&rsquo\;t miss this opportunity to gain valuable knowledge and connect with like-minded professionals.</span></p>\n\n<div>&nbsp\;</div>\n</div>\n</div>\n</div>\n</div>\n\n<div class="i_jYa VP_4j" style="box-sizing: border-box\; margin: 0px\; padding-top: var(--spacing-medium)\; padding-right: var(--spacing-small)\; padding-bottom: 0px\; padding-left: 0px\; border: 0px\; font-size: 15px\; vertical-align: baseline\; align-items: center\; display: flex\; flex-direction: row\; justify-content: space-between\;">\n<div style="box-sizing: border-box\; margin: 0px\; padding: 0px\; border: 0px\; vertical-align: baseline\; color: rgb(50\, 51\, 56)\; font-family: Figtree\, Roboto\, &quot\;Noto Sans Hebrew&quot\;\, &quot\;Noto Kufi Arabic&quot\;\, &quot\;Noto Sans JP&quot\;\, sans-serif\;">\n<div class="qPv_R" style="box-sizing: border-box\; margin: 0px\; padding: 0px\; border: 0px\; vertical-align: baseline\; display: flex\; max-width: 450px\;">\n<div class="dK6um" style="box-sizing: border-box\; margin: 0px\; padding: 0px\; border: 0px\; vertical-align: baseline\; display: inherit\; flex-wrap: wrap\; gap: var(--spacing-xs)\; width: 0px\;">&nbsp\;</div>\n</div>\n</div>\n\n<div class="Cvgi1" style="box-sizing: border-box\; margin: 0px\; padding: 0px\; border: 0px\; vertical-align: baseline\; display: flex\; color: rgb(50\, 51\, 56)\; font-family: Figtree\, Roboto\, &quot\;Noto Sans Hebrew&quot\;\, &quot\;Noto Kufi Arabic&quot\;\, &quot\;Noto Sans JP&quot\;\, sans-serif\;">\n<div class="bK30V" style="box-sizing: border-box\; margin: 0px\; padding: 0px\; border: 0px\; vertical-align: baseline\; color: var(--secondary-text-color)\;">&nbsp\;</div>\n</div>\n</div>\n
LOCATION:Douglas County Chamber 6658 Church St\, Douglasville
UID:e.184.16386
SEQUENCE:3
DTSTAMP:20260424T223828Z
URL:https://business.douglascountygeorgia.com/events/details/non-profit-meet-up-strategy-heart-in-action-16386
END:VEVENT

END:VCALENDAR
