BEGIN:VCALENDAR
VERSION:2.0
PRODID:-//ChamberMaster//Event Calendar 2.0//EN
METHOD:PUBLISH
X-PUBLISHED-TTL:P3D
REFRESH-INTERVAL:P3D
CALSCALE:GREGORIAN
BEGIN:VEVENT
DTSTART:20200302T233000Z
DTEND:20200303T010000Z
X-MICROSOFT-CDO-ALLDAYEVENT:FALSE
SUMMARY:Personal Growth Master Series
DESCRIPTION:A GUIDED BOOK STUDY OF GIRL\, STOP APOLOGIZING BY RACHEL HOLLIS\nIt's easy to dwell in despair\, go with the flow thinking that this is the person you have always been\, the person you are at the moment\, and the person you always will be.\n\nYOU'RE WRONG.\n\nVisualize these letters in red\, bold\, and caps whenever thoughts like these prevent you from taking the reins of your life.\n\n\n\nStamping down on the voices of naysayers will be the first step you will take in your personal development. How can you get to your next level?\n\nOverthinking will only overwhelm you\, but the good news is that there are certain steps you can take to make this journey easier. There are milestones that you need to achieve   baby steps so to speak   which can help you get on your feet and become the person you are meant to become.\n\nLucky for you\, there is just the solution. And it is only a click away.\n\nIf you are on a journey of personal growth\, join hands with us and let's go together!  If you want to read this book fast\, read it alone\, but if you want to grow and have lasting impact\, read it with others.\n\nCourse Benefits\n\n\n	Gain new perspectives\n	Increase your motivation to succeed\n	Application lessons to help you take immediate action\n	Connect with like minded individuals\n	Access to a personal development coach\n	It's fun and more!\n\n\nCourse Details\n\n\n	Weekly 90 minute session\n	Join in person or online\n	On demand access to course replay\n	Copy of the book included\n	Class Dates - Feb 17th\, Feb 24th\, March 2nd and March 9th
X-ALT-DESC;FMTTYPE=text/html:<strong>A GUIDED BOOK STUDY OF&nbsp\;<em>GIRL\, STOP APOLOGIZING</em>&nbsp\;BY RACHEL HOLLIS</strong>\n<p>It&rsquo\;s easy to dwell in despair\, go with the flow thinking that this is the person you have always been\, the person you are at the moment\, and the person you always will be.</p>\n\n<p style="text-align:center"><span style="color:rgb(255\, 0\, 0)"><strong><span style="font-family:cambria\,serif">YOU&rsquo\;RE WRONG.</span></strong></span></p>\n\n<p>Visualize these letters in red\, bold\, and caps whenever thoughts like these prevent you from taking the reins of your life.<br />\n<br />\nStamping down on the voices of naysayers will be the first step you will take in your personal development. How can you get to your next level?</p>\n\n<p>Overthinking will only overwhelm you\, but the good news is that there are certain steps you can take to make this journey easier. There are milestones that you need to achieve &ndash\; baby steps so to speak &ndash\; which can help you get on your feet and become the person you are meant to become.</p>\n\n<p style="text-align:center"><strong><span style="color:rgb(255\, 0\, 0)">Lucky for you\, there is just the solution. And it is only a click away.</span></strong></p>\n\n<p>If you are on a journey of personal growth\, join hands with us and let&#39\;s go together!&nbsp\;&nbsp\;<strong>If you want to read this book fast\, read it alone\, but if you want to grow and have lasting impact\, read it with others.</strong></p>\n\n<h3>Course Benefits</h3>\n\n<ul>\n	<li>Gain new perspectives</li>\n	<li>Increase your motivation to succeed</li>\n	<li>Application lessons to help you take immediate action</li>\n	<li>Connect with like minded individuals</li>\n	<li>Access to a personal development coach</li>\n	<li>It&#39\;s fun and more!</li>\n</ul>\n\n<h3>Course Details</h3>\n\n<ul>\n	<li>Weekly 90 minute session</li>\n	<li>Join in person or online</li>\n	<li>On demand access to course replay</li>\n	<li>Copy of the book included</li>\n	<li><strong>Class Dates - Feb 17th\, Feb 24th\, March 2nd and March 9th</strong></li>\n</ul>\n
LOCATION:12451 Veterans Memorial Hwy Douglasville\, GA 30134
UID:e.184.11255
SEQUENCE:3
DTSTAMP:20260426T003012Z
URL:https://business.douglascountygeorgia.com/events/details/personal-growth-master-series-03-02-2020-11255
END:VEVENT

END:VCALENDAR
