BEGIN:VCALENDAR
VERSION:2.0
PRODID:-//ChamberMaster//Event Calendar 2.0//EN
METHOD:PUBLISH
X-PUBLISHED-TTL:P3D
REFRESH-INTERVAL:P3D
CALSCALE:GREGORIAN
BEGIN:VEVENT
DTSTART:20211111T133000Z
DTEND:20211111T150000Z
X-MICROSOFT-CDO-ALLDAYEVENT:FALSE
SUMMARY:PIE Tour of Schools: Beulah Elementary
DESCRIPTION:Partners In Education presents "Tour of Schools" at Beulah Elementary  School! Sponsored by RA-LIN\, this event will give you a behind-the-scenes look at the school\, their team\, programs and accomplishments.  You'll also learn how to become a PIE Partner\, and opportunities to partner with this school as well as other schools in our community.  This event will have attendance capped at 25 participants so register now to secure your spot.
X-ALT-DESC;FMTTYPE=text/html:<span style="font-size: 16px\;">Partners In Education presents &ldquo\;Tour of Schools&rdquo\; at Beulah Elementary&nbsp\; School!</span><span style="font-size: 16px\;">&nbsp\;Sponsored by RA-LIN\, this event will give you a behind-the-scenes look at the school\, their team\, programs and accomplishments.&nbsp\; You&#39\;ll also learn how to become a PIE Partner\, and opportunities to partner with this school as well as other schools in our community.&nbsp\; This event will have attendance capped at 25 participants so register now to secure your spot.&nbsp\;</span>
LOCATION:
UID:e.184.12912
SEQUENCE:3
DTSTAMP:20260421T184759Z
URL:https://business.douglascountygeorgia.com/events/details/pie-tour-of-schools-beulah-elementary-12912
END:VEVENT

END:VCALENDAR
