BEGIN:VCALENDAR
VERSION:2.0
PRODID:-//ChamberMaster//Event Calendar 2.0//EN
METHOD:PUBLISH
X-PUBLISHED-TTL:P3D
REFRESH-INTERVAL:P3D
CALSCALE:GREGORIAN
BEGIN:VEVENT
DTSTART:20200422T153000Z
DTEND:20200422T160000Z
X-MICROSOFT-CDO-ALLDAYEVENT:FALSE
SUMMARY:POSTPONED: Ribbon Cutting for Ben Hill Renovations
DESCRIPTION:Ribbon Cuttings are the ceremonial opening of a brand-new business\, grand opening or expansion/relocation of an existing business. This is a complimentary service that we provide to Chamber Members only. These events offer businesses the opportunity to invite members\, the Chamber Board of Directors\, Chamber Diplomats\, and City and County elected officials to their location for their ribbon cutting\, as well as to speak about their organization.
X-ALT-DESC;FMTTYPE=text/html:<span style="font-size:14px\;"><span style="font-family:arial\;">Ribbon Cuttings are the ceremonial opening of a brand-new business\, grand opening or expansion/relocation of an existing business. This is a complimentary service that we provide to Chamber Members only. These events offer businesses the opportunity to invite members\, the Chamber Board of Directors\, Chamber Diplomats\, and City and County elected officials to their location for their ribbon cutting\, as well as to speak about their organization.&nbsp\;</span></span>
LOCATION:8990 Highway 5 Douglasville\, GA 30135
UID:e.184.10494
SEQUENCE:3
DTSTAMP:20260425T225946Z
URL:https://business.douglascountygeorgia.com/events/details/postponed-ribbon-cutting-for-ben-hill-renovations-10494
END:VEVENT

END:VCALENDAR
