BEGIN:VCALENDAR
VERSION:2.0
PRODID:-//ChamberMaster//Event Calendar 2.0//EN
METHOD:PUBLISH
X-PUBLISHED-TTL:P3D
REFRESH-INTERVAL:P3D
CALSCALE:GREGORIAN
BEGIN:VEVENT
DTSTART:20200716T210000Z
DTEND:20200716T230000Z
X-MICROSOFT-CDO-ALLDAYEVENT:FALSE
SUMMARY:Reception for Art Guild Swap Exhibit - Douglas County Art Guild Art Swap with the Carrollton Guild
DESCRIPTION:Come view a showcase of artwork from Carrollton's guild that would usually be displayed a town away\, while our local Guild displays their work at the Carrollton Cultural Art Center. It's an Art Swap between guilds! Join us for the reception that will be hosted by Douglasville's own Rotary Club on the evening of July 16th\, 5-7 pm.
X-ALT-DESC;FMTTYPE=text/html:<span style="background-color:rgb(255\, 255\, 255)\; color:rgb(29\, 33\, 41)\; font-family:helvetica\,arial\,sans-serif\; font-size:14px">Come view a showcase of artwork from Carrollton&#39\;s guild that would usually be displayed a town away\, while our local Guild displays their work at the Carrollton Cultural Art Center. It&#39\;s an Art Swap between guilds! Join us for the reception that will be hosted by Douglasville&#39\;s own Rotary Club on the evening of July 16th\, 5-7 pm.</span>
LOCATION:8652 Campbellton St. Douglasville
UID:e.184.11464
SEQUENCE:3
DTSTAMP:20260426T002523Z
URL:https://business.douglascountygeorgia.com/events/details/reception-for-art-guild-swap-exhibit-douglas-county-art-guild-art-swap-with-the-carrollton-guild-11464
END:VEVENT

END:VCALENDAR
