BEGIN:VCALENDAR
VERSION:2.0
PRODID:-//ChamberMaster//Event Calendar 2.0//EN
METHOD:PUBLISH
X-PUBLISHED-TTL:P3D
REFRESH-INTERVAL:P3D
CALSCALE:GREGORIAN
BEGIN:VEVENT
DTSTART:20200507T210000Z
DTEND:20200507T230000Z
X-MICROSOFT-CDO-ALLDAYEVENT:FALSE
SUMMARY:Reception for Douglas County Art Guild Biennial Exhibit
DESCRIPTION:Join us for the free and community-driven celebration of the most awaited reception night for Douglas County Art Guild. The artwork local members create all year are finally displayed where the work was intended for throughout its creation. Whether the artists' tribute to the Cultural Arts Center or the Cultural Arts Center's tribute to the artists\, let's all come together and tribute the freedom to express through art in our own city of Douglasville\, Georgia.
X-ALT-DESC;FMTTYPE=text/html:Join us for the free and community-driven celebration of the most awaited reception night for Douglas County Art Guild. The artwork local members create all year are finally displayed where the work was intended for throughout its creation. Whether the artists&#39\; tribute to the Cultural Arts Center or the Cultural Arts Center&#39\;s tribute to the artists\, let&#39\;s all come together and tribute the freedom to express through art in our own city of Douglasville\, Georgia.
LOCATION:Cultural Arts Center 8652 Campbellton St. Douglasville\, Ga. 30134
UID:e.184.11289
SEQUENCE:3
DTSTAMP:20260425T225818Z
URL:https://business.douglascountygeorgia.com/events/details/reception-for-douglas-county-art-guild-biennial-exhibit-11289
END:VEVENT

END:VCALENDAR
