BEGIN:VCALENDAR
VERSION:2.0
PRODID:-//ChamberMaster//Event Calendar 2.0//EN
METHOD:PUBLISH
X-PUBLISHED-TTL:P3D
REFRESH-INTERVAL:P3D
CALSCALE:GREGORIAN
BEGIN:VEVENT
DTSTART:20250827T150000Z
DTEND:20250827T153000Z
X-MICROSOFT-CDO-ALLDAYEVENT:FALSE
SUMMARY:Ribbon Cutting/Fiber Announcement for AT&T
DESCRIPTION:Please join us for a fiber announcement/ribbon-cutting regarding AT&T's investment in Douglas County!\n\n\n\nRibbon Cutting ceremonies are a free service that we provide to Chamber Investors. These events offer business the chance to invite members\, the Board of Directors\, Chamber Ambassadors\, and City and County officials to their location as well as speak about their business.
X-ALT-DESC;FMTTYPE=text/html:<p><!--StartFragment--><strong><span style="font-size:14px\;"><span style="font-family:arial\;"><span data-olk-copy-source="MessageBody" style="border-bottom: 1px solid rgb(204\, 204\, 204)\;">Please join us for a fiber announcement/ribbon-cutting regarding AT&amp\;T&#39\;s investment in Douglas County!</span></span></span></strong><!--EndFragment--></p>\n\n<p><br />\n<span style="box-sizing: border-box\; color: rgb(0\, 34\, 64)\; font-size: 16px\; font-family: arial\;">Ribbon Cutting&nbsp\;ceremonies are a free service that we provide to Chamber Investors. These events offer business the chance to invite members\, the Board of Directors\, Chamber Ambassadors\, and City and County officials to their location as well as speak about their business.</span><br style="box-sizing: border-box\; color: rgb(0\, 34\, 64)\; font-family: AvenirNextLTProRegular\; font-size: 16px\;" />\n&nbsp\;</p>\n\n<p>&nbsp\;</p>\n
LOCATION:6658 Church Street Douglasville\, GA 30134
UID:e.184.16769
SEQUENCE:3
DTSTAMP:20260424T122858Z
URL:https://business.douglascountygeorgia.com/events/details/ribbon-cutting-fiber-announcement-for-at-t-16769
END:VEVENT

END:VCALENDAR
