BEGIN:VCALENDAR
VERSION:2.0
PRODID:-//ChamberMaster//Event Calendar 2.0//EN
METHOD:PUBLISH
X-PUBLISHED-TTL:P3D
REFRESH-INTERVAL:P3D
CALSCALE:GREGORIAN
BEGIN:VEVENT
DTSTART:20250918T150000Z
DTEND:20250918T153000Z
X-MICROSOFT-CDO-ALLDAYEVENT:FALSE
SUMMARY:Ribbon Cutting for 76 FENCE
DESCRIPTION:Please join us for a Ribbon Cutting to celebrate and welcome 76 FENCE to our community!\n\n\n\nRibbon Cutting ceremonies are a free service that we provide to Chamber Investors. These events offer new business the chance to invite members\, the Board of Directors\, Chamber Ambassadors\, and City and County officials to their location as well as speak about their business\n\n76 FENCE is a nationally recognized fencing company providing high-quality\, customized solutions for homeowners\, businesses\, and industrial clients. Locally owned by Matthew Skuodas\, they are rooted in the community and deliver every fencing installation with honesty\, excellence\, and a commitment to customer satisfaction.
X-ALT-DESC;FMTTYPE=text/html:<div class="col-sm-7 col-md-8 order-sm-first" style="box-sizing: border-box\; position: relative\; width: 746.662px\; min-height: 1px\; padding-right: 15px\; padding-left: 15px\; flex: 0 0 66.6667%\; max-width: 66.6667%\; order: -1\; outline: 0px\; color: rgb(68\, 68\, 68)\; font-family: Arial\, Helvetica\, sans-serif\; font-size: 14px\; font-weight: 700\;">\n<div class="row gz-event-description" itemprop="about" style="box-sizing: border-box\; display: flex\; flex-wrap: wrap\; margin-right: -15px\; margin-left: -15px\; outline: 0px\;">\n<div class="col" style="box-sizing: border-box\; position: relative\; width: 746.662px\; min-height: 1px\; padding-right: 15px\; padding-left: 15px\; flex-basis: 0px\; flex-grow: 1\; max-width: 100%\; outline: 0px\;">\n<p style="box-sizing: border-box\; color: rgb(0\, 34\, 64)\; font-size: 16px\; font-family: AvenirNextLTProRegular\; line-height: 1.5em\; font-weight: 400\; margin-bottom: 1rem\; margin-top: 0px\; outline: 0px\;"><span style="font-size:16px\;"><span style="font-family:tahoma\;"><span data-teams="true" style="box-sizing: border-box\;"><span class="ui-provider a b c d e f g h i j k l m n o p q r s t u v w x y z ab ac ae af ag ah ai aj ak" dir="ltr" style="box-sizing: border-box\;">Please join us for a Ribbon Cutting to celebrate and welcome 76 FENCE to our community!</span></span><br style="box-sizing: border-box\; font-family: arial\;" />\n<br style="box-sizing: border-box\; font-family: arial\;" />\n<span style="box-sizing: border-box\; outline: 0px\;">Ribbon Cutting&nbsp\;ceremonies are a free service that we provide to Chamber Investors. These events offer new business the chance to invite members\, the Board of Directors\, Chamber Ambassadors\, and City and County officials to their location as well as speak about their business</span></span></span></p>\n\n<div data-olk-copy-source="MessageBody" style="border: 0px\; font-variant-numeric: inherit\; font-variant-east-asian: inherit\; font-variant-alternates: inherit\; font-variant-position: inherit\; font-variant-emoji: inherit\; font-stretch: inherit\; font-size: 15px\; line-height: inherit\; font-family: &quot\;Segoe UI&quot\;\, &quot\;Segoe UI Web (West European)&quot\;\, -apple-system\, BlinkMacSystemFont\, Roboto\, &quot\;Helvetica Neue&quot\;\, sans-serif\; font-optical-sizing: inherit\; font-size-adjust: inherit\; font-kerning: inherit\; font-feature-settings: inherit\; font-variation-settings: inherit\; margin: 0px\; padding: 0px\; vertical-align: baseline\; color: rgb(36\, 36\, 36)\;">76 FENCE is a nationally recognized fencing company providing high-quality\, customized solutions for homeowners\, businesses\, and industrial clients. Locally owned by Matthew Skuodas\, they are rooted in the community and deliver every fencing installation with honesty\, excellence\, and a commitment to customer satisfaction.<br />\n&nbsp\;</div>\n</div>\n</div>\n</div>\n
LOCATION:6658 Church Street Douglasville\, GA 30134
UID:e.184.16778
SEQUENCE:3
DTSTAMP:20260424T085135Z
URL:https://business.douglascountygeorgia.com/events/details/ribbon-cutting-for-76-fence-16778
END:VEVENT

END:VCALENDAR
