BEGIN:VCALENDAR
VERSION:2.0
PRODID:-//ChamberMaster//Event Calendar 2.0//EN
METHOD:PUBLISH
X-PUBLISHED-TTL:P3D
REFRESH-INTERVAL:P3D
CALSCALE:GREGORIAN
BEGIN:VEVENT
DTSTART:20250220T163000Z
DTEND:20250220T173000Z
X-MICROSOFT-CDO-ALLDAYEVENT:FALSE
SUMMARY:Ribbon Cutting for Protect Security
DESCRIPTION:Please join us for a Ribbon Cutting to celebrate and welcome Protect Security to our community!\n\n\n\nRibbon Cutting and Ground Breaking ceremonies are a free service that we provide to Chamber Investors. These events offer new business the chance to invite members\, the Board of Directors\, Chamber Ambassadors\, and City and County officials to their location as well as speak about their business.
X-ALT-DESC;FMTTYPE=text/html:<div class="entry-content">\n<p><span style="font-size:16px\;"><span style="font-family:arial\;"><span data-teams="true"><span class="ui-provider a b c d e f g h i j k l m n o p q r s t u v w x y z ab ac ae af ag ah ai aj ak" dir="ltr">Please join us for a Ribbon Cutting to celebrate and welcome Protect Security to our community!</span></span><br />\n<br />\nRibbon Cutting and&nbsp\;Ground Breaking&nbsp\;ceremonies are a free service that we provide to Chamber Investors. These events offer new business the chance to invite members\, the Board of Directors\, Chamber Ambassadors\, and City and County officials to their location as well as speak about their business.</span></span><br />\n&nbsp\;</p>\n</div>\n
LOCATION:8315 Office Park Drive\, Douglasville\, GA 30134
UID:e.184.16358
SEQUENCE:3
DTSTAMP:20260425T031811Z
URL:https://business.douglascountygeorgia.com/events/details/ribbon-cutting-for-protect-security-16358
END:VEVENT

END:VCALENDAR
