BEGIN:VCALENDAR
VERSION:2.0
PRODID:-//ChamberMaster//Event Calendar 2.0//EN
METHOD:PUBLISH
X-PUBLISHED-TTL:P3D
REFRESH-INTERVAL:P3D
CALSCALE:GREGORIAN
BEGIN:VEVENT
DTSTART:20250402T123000Z
DTEND:20250402T140000Z
X-MICROSOFT-CDO-ALLDAYEVENT:FALSE
SUMMARY:Round Table: GHCC Business Networking Group
DESCRIPTION:In partnership with the Georgia Hispanic Chamber of Commerce (GHCC) and the Douglas County Chamber\, we invite you to join us for the Douglas Business Networking Group at the Douglas County Chamber on April 2nd at 8:30a.\n\n\n\nThe Georgia Hispanic Chamber's BNG events are known for fostering a dynamic and supportive environment for businesses of all backgrounds.  This event in Douglas County is a fantastic opportunity to expand your network and explore potential partnerships.\n \n\n \n\nTuesday\, April 2nd | 8:30 a.m. - 10:00 a.m. | Douglas County Chamber\n\n \n\nThis event is FREE to attend for Chamber Members. Registration is required! For discount code\, please reach out to Isabelle at events@douglascountygeorgia.com. \n\n\n\nRegistration link: https://bit.ly/3FD3XbC
X-ALT-DESC;FMTTYPE=text/html:<p><span data-teams="true">In partnership with the Georgia Hispanic Chamber of Commerce (GHCC) and the Douglas County Chamber\, we invite you to join us for the Douglas Business Networking Group at the&nbsp\;Douglas County Chamber&nbsp\;on April&nbsp\;2nd&nbsp\;at&nbsp\;8:30a.<br />\n<br />\nThe Georgia Hispanic Chamber&#39\;s&nbsp\;BNG&nbsp\;events are known for fostering a dynamic and supportive environment for businesses of all backgrounds.&nbsp\;&nbsp\;This event in Douglas County is a fantastic opportunity to expand your network and explore potential partnerships.</span></p>\n&nbsp\;\n\n<p><span data-teams="true">&nbsp\;</span></p>\n\n<p><span data-teams="true"><strong>Tuesday\, April 2nd | 8:30 a.m. - 10:00 a.m. | Douglas County Chamber</strong></span></p>\n\n<p><span data-teams="true">&nbsp\;</span></p>\n\n<p><span data-teams="true">This event is FREE to attend for Chamber Members. Registration is required! For discount code\, please reach out to Isabelle at events@douglascountygeorgia.com.&nbsp\;<br />\n<br />\nRegistration link:&nbsp\;</span><a href="https://bit.ly/3FD3XbC">https://bit.ly/3FD3XbC</a></p>\n
LOCATION:Douglas County Chamber of Commerce
UID:e.184.16262
SEQUENCE:3
DTSTAMP:20260424T222916Z
URL:https://business.douglascountygeorgia.com/events/details/round-table-ghcc-business-networking-group-16262
END:VEVENT

END:VCALENDAR
