BEGIN:VCALENDAR
VERSION:2.0
PRODID:-//ChamberMaster//Event Calendar 2.0//EN
METHOD:PUBLISH
X-PUBLISHED-TTL:P3D
REFRESH-INTERVAL:P3D
CALSCALE:GREGORIAN
BEGIN:VEVENT
DTSTART:20200418T123000Z
DTEND:20200418T160000Z
X-MICROSOFT-CDO-ALLDAYEVENT:FALSE
SUMMARY:POSTPONED S.H.A.R.E. House 5K
DESCRIPTION:The 13th Annual S.H.A.R.E. House 5K formerly known as the Mad Hatters & Munchkins 5k & Fun Run on April 18th is a event to support the future of your community by helping women and children rebuild after escaping domestic violence. We encourage our runners to come dressed for some fun while raising money in support of the SHARE House!
X-ALT-DESC;FMTTYPE=text/html:<span style="background-color:rgb(255\, 255\, 255)\; color:rgb(28\, 30\, 33)\; font-family:helvetica\,arial\,sans-serif\; font-size:14px">The 13th Annual S.H.A.R.E. House 5K formerly known as the Mad Hatters &amp\; Munchkins 5k &amp\; Fun Run on April 18th is a event to support the future of your community by helping women and children rebuild after escaping domestic violence. We encourage our runners to come dressed for some fun while raising money in support of the SHARE House!</span>
LOCATION:Boundary Waters Park 5000 GA-92\, Douglasville\, GA 30135
UID:e.184.11317
SEQUENCE:3
DTSTAMP:20260425T225650Z
URL:https://business.douglascountygeorgia.com/events/details/s-h-a-r-e-house-5k-11317
END:VEVENT

END:VCALENDAR
