BEGIN:VCALENDAR
VERSION:2.0
PRODID:-//ChamberMaster//Event Calendar 2.0//EN
METHOD:PUBLISH
X-PUBLISHED-TTL:P3D
REFRESH-INTERVAL:P3D
CALSCALE:GREGORIAN
BEGIN:VEVENT
DTSTART:20200328T150000Z
DTEND:20200328T170000Z
X-MICROSOFT-CDO-ALLDAYEVENT:FALSE
SUMMARY:Scavenger Hunt
DESCRIPTION:Compete in the Good Samaritan Center's second annual Scavenger Hunt in downtown Douglasville.  Participants will work in teams of 2-5 people to decipher riddles\, clues and hints that will lead them from one location to the next.  Points are given for solving each clue.  There'll be walker\, runner and driver divisions so everyone is able to participate at a pace they are comfortable with.  The teams with the highest scores from each division will be awarded with trophies and medals.  All proceeds benefit Douglasville's Good Samaritan Center.  This is a great activity for families and businesses.
X-ALT-DESC;FMTTYPE=text/html:<p>Compete in the Good Samaritan Center&#39\;s second annual Scavenger Hunt in downtown Douglasville.&nbsp\; Participants will work in teams of 2-5 people to decipher riddles\, clues and hints that will lead them from one location to the next.&nbsp\; Points are given for solving each clue.&nbsp\; There&rsquo\;ll be walker\, runner and driver divisions so everyone is able to participate at a pace they are comfortable with.&nbsp\; The teams with the highest scores from each division will be awarded with trophies and medals.&nbsp\; All proceeds benefit Douglasville&rsquo\;s Good Samaritan Center. &nbsp\;This is a great activity for families and businesses.</p>\n\n<div>&nbsp\;</div>\n
LOCATION:Starts and ends at: First United Methodist Church 6167 Presley Mill Road Douglasville\, GA 30134
UID:e.184.11286
SEQUENCE:3
DTSTAMP:20260426T002136Z
URL:https://business.douglascountygeorgia.com/events/details/scavenger-hunt-11286
END:VEVENT

END:VCALENDAR
