BEGIN:VCALENDAR
VERSION:2.0
PRODID:-//ChamberMaster//Event Calendar 2.0//EN
METHOD:PUBLISH
X-PUBLISHED-TTL:P3D
REFRESH-INTERVAL:P3D
CALSCALE:GREGORIAN
BEGIN:VEVENT
DTSTART:20200307T230000Z
DTEND:20200308T010000Z
X-MICROSOFT-CDO-ALLDAYEVENT:FALSE
SUMMARY:Sip Soups and Ride The Glory Train
DESCRIPTION:Fun evening of sipping different types of soups with salad and rolls included.  Then sit back and enjoy a one act play\, The Glory Train.   This play is packed with humor and powerful spiritual messages designed to be thought provoking and life changing\, You will enjoy the ride. Come meet us at the station!  \n\nGo here to purchase tickets. Go here for an overview of the play.
X-ALT-DESC;FMTTYPE=text/html:<p>Fun evening of sipping different types of soups with salad and rolls&nbsp\;included.&nbsp\; Then sit back and enjoy a one act play\, The Glory Train.&nbsp\; &nbsp\;This play is packed with humor and powerful spiritual messages designed to be thought provoking and life changing\, You will enjoy the ride. Come meet us at the station!&nbsp\;&nbsp\;</p>\n\n<p>Go&nbsp\;<a href="https://www.eventbrite.com/e/sip-soups-and-ride-the-glory-train-tickets-87878678493" style="box-sizing: inherit\; background-color: transparent\; color: rgb(0\, 158\, 19)\; text-decoration-line: none\; cursor: pointer\; outline: none !important\;">here</a>&nbsp\;to purchase tickets. Go&nbsp\;<a href="https://naerocproductionsllc.com/the-glory-train/" style="box-sizing: inherit\; background-color: transparent\; color: rgb(0\, 158\, 19)\; text-decoration-line: none\; cursor: pointer\; outline: none !important\;">here</a>&nbsp\;for an overview of the play.</p>\n
LOCATION:
UID:e.184.11259
SEQUENCE:3
DTSTAMP:20260426T015609Z
URL:https://business.douglascountygeorgia.com/events/details/sip-soups-and-ride-the-glory-train-11259
END:VEVENT

END:VCALENDAR
