BEGIN:VCALENDAR
VERSION:2.0
PRODID:-//ChamberMaster//Event Calendar 2.0//EN
METHOD:PUBLISH
X-PUBLISHED-TTL:P3D
REFRESH-INTERVAL:P3D
CALSCALE:GREGORIAN
BEGIN:VEVENT
DTSTART:20200326T140000Z
DTEND:20200326T150000Z
X-MICROSOFT-CDO-ALLDAYEVENT:FALSE
SUMMARY:Small Business Resources during COVID-19 Webinar
DESCRIPTION:Are you a small business trying to navigate through the effects of the coronavirus pandemic? Join Todd Anduze from the Small Business Development Center as he answers questions you might about the SBA Economic Injury Disaster Loans\, unemployment benefits\, cash management\, and marketing.
X-ALT-DESC;FMTTYPE=text/html:Are you a small business trying to navigate through the effects of the coronavirus pandemic? Join Todd Anduze from the Small Business Development Center as he answers questions you might about the SBA Economic Injury Disaster Loans\, unemployment benefits\, cash management\, and marketing.&nbsp\;
LOCATION:Your desktop or mobile device.
UID:e.184.11352
SEQUENCE:3
DTSTAMP:20260426T001927Z
URL:https://business.douglascountygeorgia.com/events/details/small-business-resources-during-covid-19-webinar-11352
END:VEVENT

END:VCALENDAR
