BEGIN:VCALENDAR
VERSION:2.0
PRODID:-//ChamberMaster//Event Calendar 2.0//EN
METHOD:PUBLISH
X-PUBLISHED-TTL:P3D
REFRESH-INTERVAL:P3D
CALSCALE:GREGORIAN
BEGIN:VEVENT
DTSTART:20251210T160000Z
DTEND:20251210T180000Z
X-MICROSOFT-CDO-ALLDAYEVENT:FALSE
SUMMARY:Small Business Success Series
DESCRIPTION:Join us for an eye-opening information session designed to help business owners identify the symptoms that may be holding their business back and discover proven treatments that lead to real growth. During this session\, Dr. Baker will walk you through The Business Hospital's innovative approach to diagnosing operational pain points\, strengthening internal systems\, and creating a sustainable path to business success.\n\n \n\nWhether your business needs a quick check-up or a full turnaround plan\, this is your chance to learn how to become a "patient" and get personalized\, strategic support. If you're ready to stop surviving and start thriving\, The Business Hospital is ready to help you heal\, grow\, and scale.\n\n \n\nSeats are limited secure yours and take the first step toward a healthier business.
X-ALT-DESC;FMTTYPE=text/html:<div class="elementor-element elementor-element-d1c0b5e elementor-widget__width-initial elementor-widget elementor-widget-jet-listing-dynamic-field" data-element_type="widget" data-id="d1c0b5e" data-widget_type="jet-listing-dynamic-field.default" style="box-sizing: border-box\; --flex-direction: initial\; --flex-wrap: initial\; --justify-content: initial\; --align-items: initial\; --align-content: initial\; --gap: initial\; --flex-basis: initial\; --flex-grow: 0\; --flex-shrink: 0\; --order: initial\; --align-self: initial\; flex-basis: var(--flex-basis)\; flex-grow: var(--flex-grow)\; flex-shrink: var(--flex-shrink)\; order: var(--order)\; align-self: var(--align-self)\; flex-direction: var(--flex-direction)\; flex-wrap: var(--flex-wrap)\; justify-content: var(--justify-content)\; align-items: var(--align-items)\; align-content: var(--align-content)\; gap: var(--gap)\; position: relative\; --swiper-theme-color: #000\; --swiper-navigation-size: 44px\; --swiper-pagination-bullet-size: 6px\; --swiper-pagination-bullet-horizontal-gap: 6px\; --widgets-spacing: 20px 20px\; min-width: 0px\; margin-bottom: 0px\; margin-block-end: 0px\; width: var(--container-widget-width\,100%)\; max-width: 100%\; --container-widget-width: 100%\; --container-widget-flex-grow: 0\; font-family: &quot\;Merriweather Sans&quot\;\, sans-serif\; font-size: 15px\;">\n<div class="elementor-widget-container" style="box-sizing: border-box\; transition: background .3s\,border .3s\,border-radius .3s\,box-shadow .3s\,transform var(--e-transform-transition-duration\,.4s)\; height: 78px\; margin: 0px\;">\n<div class="jet-listing jet-listing-dynamic-field display-inline" style="box-sizing: border-box\; display: flex\; -webkit-box-align: center\; align-items: center\; justify-content: flex-start\;">\n<div class="jet-listing-dynamic-field__inline-wrap" style="box-sizing: border-box\; display: inline-flex\; -webkit-box-align: center\; align-items: center\; max-width: 100%\; width: auto\; padding: 0px\;">\n<div class="jet-listing-dynamic-field__content" style="box-sizing: border-box\; max-width: 100%\; color: var(--e-global-color-secondary)\; font-size: 20px\; font-weight: 700\; line-height: 1.3em\; width: auto\;">\n<div class="ZKRKU" data-testid="post-renderer-component" style="box-sizing: border-box\; margin: 0px\; padding: 0px\; border: 0px\; font-size: 15px\; vertical-align: baseline\; min-width: 110px\; overflow: hidden\; position: relative\; color: rgb(50\, 51\, 56)\; font-family: Figtree\, Roboto\, &quot\;Noto Sans Hebrew&quot\;\, &quot\;Noto Kufi Arabic&quot\;\, &quot\;Noto Sans JP&quot\;\, sans-serif\; max-height: none\;">\n<div class="fV3Jt" style="box-sizing: border-box\; margin: 0px\; padding: 0px\; border: 0px\; vertical-align: baseline\; transition: max-height 0.14s\;">\n<div class="GOJZx" style="box-sizing: border-box\; margin: 0px\; padding: 0px\; border: 0px\; vertical-align: baseline\; display: flex\; flex-direction: row\;">\n<div class="agPPc U4hHe hWX7X fs-mask" style="box-sizing: border-box\; margin: 0px\; padding: 0px 0px 0px 8px\; border: 0px\; font-size: 1em\; vertical-align: baseline\; overflow: auto\; position: relative\; width: 626px\; word-break: break-word\; line-height: 1.5\; user-select: text\;">\n<p style="box-sizing: inherit\; margin: 0px 0px 8px\; padding: 0px\; border: 0px\; vertical-align: baseline\; outline: none !important\;"><span style="font-family:arial\;">Join us for an eye-opening information session designed to help business owners identify the symptoms that may be holding their business back&mdash\;and discover proven treatments that lead to real growth. During this session\, Dr. Baker will walk you through The Business Hospital&rsquo\;s innovative approach to diagnosing operational pain points\, strengthening internal systems\, and creating a sustainable path to business success.</span></p>\n\n<p style="box-sizing: inherit\; margin: 0px 0px 8px\; padding: 0px\; border: 0px\; vertical-align: baseline\; min-height: 1.5em\; outline: none !important\;">&nbsp\;</p>\n\n<p style="box-sizing: inherit\; margin: 0px 0px 8px\; padding: 0px\; border: 0px\; vertical-align: baseline\; outline: none !important\;"><span style="font-family:arial\;">Whether your business needs a quick check-up or a full turnaround plan\, this is your chance to learn how to become a &ldquo\;patient&rdquo\; and get personalized\, strategic support. If you&rsquo\;re ready to stop surviving and start thriving\, The Business Hospital is ready to help you heal\, grow\, and scale.</span></p>\n\n<p style="box-sizing: inherit\; margin: 0px 0px 8px\; padding: 0px\; border: 0px\; vertical-align: baseline\; min-height: 1.5em\; outline: none !important\;">&nbsp\;</p>\n\n<p style="box-sizing: inherit\; margin: 0px 0px 8px\; padding: 0px\; border: 0px\; vertical-align: baseline\; outline: none !important\;"><span style="font-family:arial\;">Seats are limited&mdash\;secure yours and take the first step toward a healthier business.</span></p>\n</div>\n</div>\n</div>\n</div>\n\n<div class="i_jYa VP_4j" style="box-sizing: border-box\; margin: 0px\; padding: 16px 8px 0px 0px\; border: 0px\; font-size: 15px\; vertical-align: baseline\; align-items: center\; display: flex\; flex-direction: row\; justify-content: space-between\; color: rgb(50\, 51\, 56)\; font-family: Figtree\, Roboto\, &quot\;Noto Sans Hebrew&quot\;\, &quot\;Noto Kufi Arabic&quot\;\, &quot\;Noto Sans JP&quot\;\, sans-serif\;">\n<div class="Cvgi1" style="box-sizing: border-box\; margin: 0px\; padding: 0px\; border: 0px\; vertical-align: baseline\; display: flex\;">\n<div class="bK30V" data-testid="post-watched" style="box-sizing: border-box\; margin: 0px\; padding: 0px\; border: 0px\; vertical-align: baseline\; color: rgb(103\, 104\, 121)\;">\n<div class="dp1RD" style="box-sizing: border-box\; margin: 0px\; padding: 0px\; border: 0px\; font-size: 14px\; vertical-align: baseline\; cursor: default\; display: flex\; flex-direction: row\; transform: scale(1)\;"><span style="box-sizing: border-box\; margin: 0px\; padding: 0px\; border: 0px\; vertical-align: baseline\;"><svg aria-hidden="true" class="icon_be58e023e4 PLqGp" data-testid="icon" data-vibe="Icon" fill="currentColor" height="20" viewbox="0 0 20 20" width="20"><path clip-rule="evenodd" d="M14.1176 5.83908C12.8643 5.05635 11.4319 4.50553 9.97041 4.52918C8.50891 4.50553 7.07654 5.05635 5.82346 5.83911C4.56124 6.62759 3.42984 7.68258 2.55885 8.74485L2.55885 8.74485L2.55686 8.74729C2.36883 8.97859 2.03906 9.43301 2.03906 9.99895C2.03906 10.5649 2.36883 11.0193 2.55686 11.2506L2.55686 11.2506L2.55871 11.2529C3.41048 12.2923 4.53011 13.3478 5.7911 14.1425C7.04329 14.9316 8.48556 15.4948 9.97041 15.4708C11.4553 15.4948 12.8977 14.9317 14.1501 14.1426C15.4114 13.3479 16.5315 12.2925 17.3838 11.2531L17.3859 11.2506L17.4054 11.2267L17.4054 11.2267C17.4846 11.1295 17.6104 10.9754 17.7138 10.8049C17.8251 10.6213 17.9609 10.3405 17.9609 9.99895C17.9609 9.65745 17.8251 9.37655 17.7138 9.19303C17.6104 9.02248 17.4847 8.86839 17.4054 8.77123L17.4054 8.77121L17.3859 8.74729L17.3859 8.74728L17.3836 8.74452C16.5118 7.68243 15.38 6.62751 14.1176 5.83908ZM3.57017 9.91628C3.60219 9.85199 3.65278 9.77726 3.71983 9.69465C4.50341 8.73925 5.51496 7.80043 6.61815 7.1113C7.72696 6.41866 8.87788 6.009 9.9564 6.02916C9.96574 6.02933 9.97509 6.02933 9.98443 6.02916C11.0629 6.009 12.2139 6.41865 13.323 7.11133C14.4264 7.80049 15.4385 8.73937 16.2231 9.69493L16.2231 9.69495C16.3193 9.81326 16.3838 9.89256 16.4313 9.97088C16.4378 9.98162 16.4431 9.99096 16.4474 9.99895C16.4431 10.0069 16.4378 10.0163 16.4313 10.027C16.3838 10.1053 16.3193 10.1846 16.2231 10.303L16.2231 10.303L16.223 10.3031C15.4555 11.2388 14.4534 12.1786 13.3505 12.8734C12.2423 13.5717 11.0831 13.9913 9.9844 13.9708C9.97508 13.9707 9.96575 13.9707 9.95643 13.9708C8.85777 13.9913 7.69873 13.5717 6.59085 12.8735C5.4883 12.1787 4.48674 11.2389 3.71991 10.3033C3.65281 10.2207 3.6022 10.1459 3.57017 10.0816C3.54522 10.0315 3.54023 10.0051 3.53927 9.99895C3.54023 9.99278 3.54522 9.96639 3.57017 9.91628ZM10.8071 10C10.8071 10.4422 10.4476 10.804 9.99998 10.804C9.55237 10.804 9.1929 10.4422 9.1929 10C9.1929 9.55783 9.55237 9.19599 9.99998 9.19599C10.4476 9.19599 10.8071 9.55783 10.8071 10ZM12.3071 10C12.3071 11.2725 11.2741 12.304 9.99998 12.304C8.72582 12.304 7.6929 11.2725 7.6929 10C7.6929 8.72753 8.72582 7.69599 9.99998 7.69599C11.2741 7.69599 12.3071 8.72753 12.3071 10Z" fill="currentColor" fill-rule="evenodd"></path></svg></span></div>\n</div>\n</div>\n</div>\n</div>\n</div>\n</div>\n</div>\n</div>\n
LOCATION:Virtual
UID:e.184.16336
SEQUENCE:3
DTSTAMP:20260422T171421Z
URL:https://business.douglascountygeorgia.com/events/details/small-business-success-series-16336
END:VEVENT

END:VCALENDAR
