BEGIN:VCALENDAR
VERSION:2.0
PRODID:-//ChamberMaster//Event Calendar 2.0//EN
METHOD:PUBLISH
X-PUBLISHED-TTL:P3D
REFRESH-INTERVAL:P3D
CALSCALE:GREGORIAN
BEGIN:VEVENT
DTSTART:20251117T140000Z
DTEND:20251117T160000Z
X-MICROSOFT-CDO-ALLDAYEVENT:FALSE
SUMMARY:Small Business Success Series - 2025 Year-end Checklist for Your Financial Strategy"
DESCRIPTION:As the year comes to a close\, now is the perfect time to take a closer look at your financial strategy. Join us on Monday\, November 17\, from 9:00am to 11:00am at the Douglas County Chamber for our next Small Business Success Series session\, featuring Conchata Kendrick\, Financial Advisor with Edward Jones.\n\n\n\nConchata will walk us through a ?2025 Year-End Checklist for Your Financial Strategy\,? helping business owners and professionals focus on what they can control and prepare for the new year with clarity and confidence.\n\n\n\nDon?t miss this opportunity to strengthen your financial foundation and set yourself up for success!
X-ALT-DESC;FMTTYPE=text/html:<div class="elementor-element elementor-element-d1c0b5e elementor-widget__width-initial elementor-widget elementor-widget-jet-listing-dynamic-field" data-element_type="widget" data-id="d1c0b5e" data-widget_type="jet-listing-dynamic-field.default" font-size:="" merriweather="" style="box-sizing: border-box\; --flex-direction: initial\; --flex-wrap: initial\; --justify-content: initial\; --align-items: initial\; --align-content: initial\; --gap: initial\; --flex-basis: initial\; --flex-grow: 0\; --flex-shrink: 0\; --order: initial\; --align-self: initial\; flex-basis: var(--flex-basis)\; flex-grow: var(--flex-grow)\; flex-shrink: var(--flex-shrink)\; order: var(--order)\; align-self: var(--align-self)\; flex-direction: var(--flex-direction)\; flex-wrap: var(--flex-wrap)\; justify-content: var(--justify-content)\; align-items: var(--align-items)\; align-content: var(--align-content)\; gap: var(--gap)\; position: relative\; --swiper-theme-color: #000\; --swiper-navigation-size: 44px\; --swiper-pagination-bullet-size: 6px\; --swiper-pagination-bullet-horizontal-gap: 6px\; --widgets-spacing: 20px 20px\; min-width: 0px\; margin-bottom: 0px\; margin-block-end: 0px\; width: var(--container-widget-width\,100%)\; max-width: 100%\; --container-widget-width: 100%\; --container-widget-flex-grow: 0\; font-family: ">\n<div class="elementor-widget-container" style="box-sizing: border-box\; transition: background .3s\,border .3s\,border-radius .3s\,box-shadow .3s\,transform var(--e-transform-transition-duration\,.4s)\; height: 78px\; margin: 0px\;">\n<div class="jet-listing jet-listing-dynamic-field display-inline" style="box-sizing: border-box\; display: flex\; -webkit-box-align: center\; align-items: center\; justify-content: flex-start\;">\n<div class="jet-listing-dynamic-field__inline-wrap" style="box-sizing: border-box\; display: inline-flex\; -webkit-box-align: center\; align-items: center\; max-width: 100%\; width: auto\; padding: 0px\;">\n<div class="jet-listing-dynamic-field__content" style="box-sizing: border-box\; max-width: 100%\; color: var(--e-global-color-secondary)\; font-weight: 700\; line-height: 1.3em\; width: auto\;">\n<div class="ZKRKU" data-testid="post-renderer-component" style="box-sizing: border-box\; margin: 0px\; padding: 0px\; border: 0px\; vertical-align: baseline\; min-width: 110px\; overflow: hidden\; position: relative\; max-height: 300px\;">\n<div class="fV3Jt" style="box-sizing: border-box\; margin: 0px\; padding: 0px\; border: 0px\; vertical-align: baseline\; transition: max-height 0.14s\;">\n<div class="GOJZx" style="box-sizing: border-box\; margin: 0px\; padding: 0px\; border: 0px\; vertical-align: baseline\; display: flex\; flex-direction: row\;">\n<div class="agPPc U4hHe hWX7X fs-mask" style="box-sizing: border-box\; margin: 0px\; padding: 0px 0px 0px 8px\; border: 0px\; vertical-align: baseline\; overflow: auto\; position: relative\; width: 716px\; word-break: break-word\; color: rgb(50\, 51\, 56)\; font-family: Figtree\, Roboto\, &quot\;Noto Sans Hebrew&quot\;\, &quot\;Noto Kufi Arabic&quot\;\, &quot\;Noto Sans JP&quot\;\, sans-serif\; line-height: 1.5\; user-select: text\;">\n<p style="box-sizing: inherit\; margin: 0px 0px 8px\; padding: 0px\; border: 0px\; vertical-align: baseline\; outline: none !important\;"><span style="font-size:16px\;">As the year comes to a close\, now is the perfect time to take a closer look at your financial strategy. Join us on <strong>Monday\, November 17\, from 9:00am&nbsp\;to 11:00am&nbsp\;</strong>at the Douglas County Chamber for our next Small Business Success Series session\, featuring <strong>Conchata Kendrick\, Financial Advisor with Edward Jones.</strong><br />\n<br />\nConchata will walk us through a <strong>?2025 Year-End Checklist for Your Financial Strategy\,? </strong>helping business owners and professionals focus on what they can control and prepare for the new year with clarity and confidence.<br />\n<br />\nDon?t miss this opportunity to strengthen your financial foundation and set yourself up for success!</span></p>\n</div>\n</div>\n</div>\n</div>\n</div>\n</div>\n</div>\n</div>\n</div>\n
LOCATION:
UID:e.184.16303
SEQUENCE:3
DTSTAMP:20260422T201220Z
URL:https://business.douglascountygeorgia.com/events/details/small-business-success-series-2025-year-end-checklist-for-your-financial-strategy-16303
END:VEVENT

END:VCALENDAR
