BEGIN:VCALENDAR
VERSION:2.0
PRODID:-//ChamberMaster//Event Calendar 2.0//EN
METHOD:PUBLISH
X-PUBLISHED-TTL:P3D
REFRESH-INTERVAL:P3D
CALSCALE:GREGORIAN
BEGIN:VEVENT
DTSTART:20250418T130000Z
DTEND:20250418T160000Z
X-MICROSOFT-CDO-ALLDAYEVENT:FALSE
SUMMARY:Small Business Success Series: Digital Marketing Bootcamp
DESCRIPTION:Small Business Success Series: Digital Marketing Bootcamp\n\n \n\nThis program covers the fundamentals you need to tell your story\, connect with online audiences\, map your buyers' journeys and master social media platforms like Facebook\, Instagram and LinkedIn. You'll also learn how to design a website that is optimized for search engines and local audiences\, along with other key strategies to build a powerful online presence.\n\n \n\nLEARN:\n\n	How to set marketing goals that make sense for your business\n	What motivates your target customers\n	How to compare yourself to your competition\n	Which social media platforms are right for your business\n	What to post on Facebook\, Instagram\, and LinkedIn\n	Website optimization strategies for visitors and search engines\n\nRegister here: 0520-006 | Digital Marketing Bootcamp
X-ALT-DESC;FMTTYPE=text/html:<div class="elementor-element elementor-element-d1c0b5e elementor-widget__width-initial elementor-widget elementor-widget-jet-listing-dynamic-field" data-element_type="widget" data-id="d1c0b5e" data-widget_type="jet-listing-dynamic-field.default" style="box-sizing: border-box\; --flex-direction: initial\; --flex-wrap: initial\; --justify-content: initial\; --align-items: initial\; --align-content: initial\; --gap: initial\; --flex-basis: initial\; --flex-grow: 0\; --flex-shrink: 0\; --order: initial\; --align-self: initial\; flex-basis: var(--flex-basis)\; flex-grow: var(--flex-grow)\; flex-shrink: var(--flex-shrink)\; order: var(--order)\; align-self: var(--align-self)\; flex-direction: var(--flex-direction)\; flex-wrap: var(--flex-wrap)\; justify-content: var(--justify-content)\; align-items: var(--align-items)\; align-content: var(--align-content)\; gap: var(--gap)\; position: relative\; --swiper-theme-color: #000\; --swiper-navigation-size: 44px\; --swiper-pagination-bullet-size: 6px\; --swiper-pagination-bullet-horizontal-gap: 6px\; --widgets-spacing: 20px 20px\; min-width: 0px\; margin-bottom: 0px\; margin-block-end: 0px\; width: var(--container-widget-width\,100%)\; max-width: 100%\; --container-widget-width: 100%\; --container-widget-flex-grow: 0\; font-family: &quot\;Merriweather Sans&quot\;\, sans-serif\; font-size: 15px\;">\n<div class="elementor-widget-container" style="box-sizing: border-box\; transition: background .3s\,border .3s\,border-radius .3s\,box-shadow .3s\,transform var(--e-transform-transition-duration\,.4s)\; height: 78px\; margin: 0px\;">\n<div class="jet-listing jet-listing-dynamic-field display-inline" style="box-sizing: border-box\; display: flex\; -webkit-box-align: center\; align-items: center\; justify-content: flex-start\;">\n<div class="jet-listing-dynamic-field__inline-wrap" style="box-sizing: border-box\; display: inline-flex\; -webkit-box-align: center\; align-items: center\; max-width: 100%\; width: auto\; padding: 0px\;">\n<div class="jet-listing-dynamic-field__content" style="box-sizing: border-box\; max-width: 100%\; color: var(--e-global-color-secondary)\; font-size: 20px\; font-weight: 700\; line-height: 1.3em\; width: auto\;"><span style="font-size:16.0pt\;">Small Business Success Series: Digital Marketing Bootcamp</span><br />\n&nbsp\;<br />\n<span style="font-size:16.0pt\;">This program covers the fundamentals you need to tell your story\, connect with online audiences\, map your buyers&rsquo\; journeys and master social media platforms like Facebook\, Instagram and LinkedIn. You&rsquo\;ll also learn how to design a website that is optimized for search engines and local audiences\, along with other key strategies to build a powerful online presence.</span><br />\n&nbsp\;<br />\n<strong><u><span style="font-size:16.0pt\;">LEARN:</span></u></strong>\n<ul>\n	<li><span style="font-size:16.0pt\;">How to set marketing goals that make sense for your business</span></li>\n	<li><span style="font-size:16.0pt\;">What motivates your target customers</span></li>\n	<li><span style="font-size:16.0pt\;">How to compare yourself to your competition</span></li>\n	<li><span style="font-size:16.0pt\;">Which social media platforms are right for your business</span></li>\n	<li><span style="font-size:16.0pt\;">What to post on Facebook\, Instagram\, and LinkedIn</span></li>\n	<li><span style="font-size:16.0pt\;">Website optimization strategies for visitors and search engines</span></li>\n</ul>\n<span style="font-size:16.0pt\;">Register here:&nbsp\;</span><a href="https://georgiasbdc.org/training-program/0520-006-uwg-digital-marketing-bootcamp/">0520-006 | Digital Marketing Bootcamp</a></div>\n</div>\n</div>\n</div>\n</div>\n
LOCATION:4Your Occasions Event Center
UID:e.184.16261
SEQUENCE:3
DTSTAMP:20260424T223526Z
URL:https://business.douglascountygeorgia.com/events/details/small-business-success-series-digital-marketing-bootcamp-16261
END:VEVENT

END:VCALENDAR
