BEGIN:VCALENDAR
VERSION:2.0
PRODID:-//ChamberMaster//Event Calendar 2.0//EN
METHOD:PUBLISH
X-PUBLISHED-TTL:P3D
REFRESH-INTERVAL:P3D
CALSCALE:GREGORIAN
BEGIN:VEVENT
DTSTART:20250513T190000Z
DTEND:20250513T210000Z
X-MICROSOFT-CDO-ALLDAYEVENT:FALSE
SUMMARY:Spring 2025 YLD End of Year Celebration
DESCRIPTION:
X-ALT-DESC;FMTTYPE=text/html:
LOCATION:
UID:e.184.15887
SEQUENCE:3
DTSTAMP:20260424T154439Z
URL:https://business.douglascountygeorgia.com/events/details/spring-2025-yld-end-of-year-celebration-15887
END:VEVENT

END:VCALENDAR
