BEGIN:VCALENDAR
VERSION:2.0
PRODID:-//ChamberMaster//Event Calendar 2.0//EN
METHOD:PUBLISH
X-PUBLISHED-TTL:P3D
REFRESH-INTERVAL:P3D
CALSCALE:GREGORIAN
BEGIN:VEVENT
DTSTART:20250401T170000Z
DTEND:20250401T210000Z
X-MICROSOFT-CDO-ALLDAYEVENT:FALSE
SUMMARY:Spring 2025 YLD Session 4
DESCRIPTION:
X-ALT-DESC;FMTTYPE=text/html:
LOCATION:
UID:e.184.15886
SEQUENCE:3
DTSTAMP:20260424T222805Z
URL:https://business.douglascountygeorgia.com/events/details/spring-2025-yld-session-4-15886
END:VEVENT

END:VCALENDAR
