BEGIN:VCALENDAR
VERSION:2.0
PRODID:-//ChamberMaster//Event Calendar 2.0//EN
METHOD:PUBLISH
X-PUBLISHED-TTL:P3D
REFRESH-INTERVAL:P3D
CALSCALE:GREGORIAN
BEGIN:VEVENT
DTSTART:20200718T150000Z
DTEND:20200718T210000Z
X-MICROSOFT-CDO-ALLDAYEVENT:FALSE
SUMMARY:Taste of Douglasville 2020
DESCRIPTION:The Cultural Arts Council of Douglasville/Douglas County\, in partnership with the City of Douglasville\, is ready to celebrate Spring with the community's most popular event of the year\, the annual Taste of Douglasville! Mark your calendars for Saturday\, July 18\, 2020 from 11 am -5 pm. RSVP to stay up-to-date with all the news updates!\n\n\n\nWhat is TASTE OF DOUGLASVILLE?\n\n+ A restaurant/ business showcase\n\n+ Exciting performances on stage\n\n+ Community booths for products and services\n\n+ A children's entertainment area of art\, exploration\, and merriment.\n\n\n\nEach year\, participants not only enjoy Taste of Douglasville\, but they also help the Cultural Arts Council support school programs reaching local students\, providing affordable spring and summer arts camps in county and city parks\, free "Family ARTSVentures" curricula-based school performances followed by the same artists performing spring and fall concerts for the whole family\, critically acclaimed gallery exhibits at the historic Roberts-Mozley House\, and many more special events like the Mad Hatter's Tea Party.\n\n\n\nInterested in becoming a vendor or sponsor? Email us at info@artsdouglas.org
X-ALT-DESC;FMTTYPE=text/html:<span style="background-color:rgb(255\, 255\, 255)\; color:rgb(29\, 33\, 41)\; font-family:helvetica\,arial\,sans-serif\; font-size:14px">The Cultural Arts Council of Douglasville/Douglas County\, in partnership with the City of Douglasville\, is ready to celebrate Spring with the community&rsquo\;s most popular event of the year\, the annual Taste of Douglasville! Mark your calendars for Saturday\, July 18\, 2020 from 11 am -5 pm. RSVP to stay up-to-date with all the news updates!</span><br />\n<br />\n<span style="background-color:rgb(255\, 255\, 255)\; color:rgb(29\, 33\, 41)\; font-family:helvetica\,arial\,sans-serif\; font-size:14px">What is TASTE OF DOUGLASVILLE?</span><br />\n<span style="background-color:rgb(255\, 255\, 255)\; color:rgb(29\, 33\, 41)\; font-family:helvetica\,arial\,sans-serif\; font-size:14px">+ A restaurant/ business showcase</span><br />\n<span style="background-color:rgb(255\, 255\, 255)\; color:rgb(29\, 33\, 41)\; font-family:helvetica\,arial\,sans-serif\; font-size:14px">+ Exciting performances on stage</span><br />\n<span style="background-color:rgb(255\, 255\, 255)\; color:rgb(29\, 33\, 41)\; font-family:helvetica\,arial\,sans-serif\; font-size:14px">+ Community booths for products and services</span><br />\n<span style="background-color:rgb(255\, 255\, 255)\; color:rgb(29\, 33\, 41)\; font-family:helvetica\,arial\,sans-serif\; font-size:14px">+ A children&rsquo\;s entertainment area of art\, exploration\, and merriment.</span><br />\n<br />\n<span style="background-color:rgb(255\, 255\, 255)\; color:rgb(29\, 33\, 41)\; font-family:helvetica\,arial\,sans-serif\; font-size:14px">Each year\, participants not only enjoy Taste of Douglasville\, but they also help the Cultural Arts Council support school programs reaching local students\, providing affordable spring and summer arts camps in county and city parks\, free &quot\;Family ARTSVentures&quot\; curricula-based school performances followed by the same artists performing spring and fall concerts for the whole family\, critically acclaimed gallery exhibits at the historic Roberts-Mozley House\, and many more special events like the Mad Hatter&rsquo\;s Tea Party.</span><br />\n<br />\n<span style="background-color:rgb(255\, 255\, 255)\; color:rgb(29\, 33\, 41)\; font-family:helvetica\,arial\,sans-serif\; font-size:14px">Interested in becoming a vendor or sponsor? Email us at info@artsdouglas.org</span>
LOCATION:Downtown Douglasville
UID:e.184.11383
SEQUENCE:3
DTSTAMP:20260426T002345Z
URL:https://business.douglascountygeorgia.com/events/details/taste-of-douglasville-2020-11383
END:VEVENT

END:VCALENDAR
