BEGIN:VCALENDAR
VERSION:2.0
PRODID:-//ChamberMaster//Event Calendar 2.0//EN
METHOD:PUBLISH
X-PUBLISHED-TTL:P3D
REFRESH-INTERVAL:P3D
CALSCALE:GREGORIAN
BEGIN:VEVENT
DTSTART:20260121T140000Z
DTEND:20260121T160000Z
X-MICROSOFT-CDO-ALLDAYEVENT:FALSE
SUMMARY:The Business Clinic Intensive: Strategic Growth Planning Lab
DESCRIPTION:Strategic Growth Planning Lab\n\nYour breakthrough year starts with a powerful plan. In this high-impact planning lab\, Dr. Baker guides established business owners through creating a bold\, strategic roadmap for the year ahead. Learn how to identify scalable opportunities\, set KPIs that actually move the needle\, refine your market position\, and prepare your business for expansion.\n\n\n\nThis session is packed with "aha moments\," practical frameworks\, and leadership insights designed to push your vision to the next level. Perfect for CEOs\, founders\, and leaders ready to scale and even better when you bring a team member or peer.
X-ALT-DESC;FMTTYPE=text/html:<p style="box-sizing: inherit\; margin: 0px 0px 8px\; padding: 0px\; border: 0px\; font-size: 15px\; vertical-align: baseline\; color: rgb(50\, 51\, 56)\; font-family: Figtree\, Roboto\, &quot\;Noto Sans Hebrew&quot\;\, &quot\;Noto Kufi Arabic&quot\;\, &quot\;Noto Sans JP&quot\;\, sans-serif\; outline: none !important\;"><span style="font-size:14px\;"><span style="font-family:arial\;"><strong style="box-sizing: inherit\; font-weight: bold\; margin: 0px\; padding: 0px\; border: 0px\; vertical-align: baseline\; outline: none !important\;">Strategic Growth Planning Lab</strong></span></span></p>\n\n<p style="box-sizing: inherit\; margin: 0px 0px 8px\; padding: 0px\; border: 0px\; font-size: 15px\; vertical-align: baseline\; color: rgb(50\, 51\, 56)\; font-family: Figtree\, Roboto\, &quot\;Noto Sans Hebrew&quot\;\, &quot\;Noto Kufi Arabic&quot\;\, &quot\;Noto Sans JP&quot\;\, sans-serif\; outline: none !important\;"><span style="font-size:14px\;"><span style="font-family:arial\;"><em style="box-sizing: inherit\; margin: 0px\; padding: 0px\; border: 0px\; vertical-align: baseline\; outline: none !important\;">Your breakthrough year starts with a powerful plan.&nbsp\;</em>In this high-impact planning lab\, Dr. Baker guides established business owners through creating a bold\, strategic roadmap for the year ahead. Learn how to identify scalable opportunities\, set KPIs that actually move the needle\, refine your market position\, and prepare your business for expansion.<br />\n<br />\nThis session is packed with &ldquo\;aha moments\,&rdquo\; practical frameworks\, and leadership insights designed to push your vision to the next level.&nbsp\;<em style="box-sizing: inherit\; margin: 0px\; padding: 0px\; border: 0px\; vertical-align: baseline\; outline: none !important\;">Perfect for CEOs\, founders\, and leaders ready to scale&mdash\;and even better when you bring a team member or peer.</em></span></span></p>\n
LOCATION:Douglas County Chamber
UID:e.184.16930
SEQUENCE:3
DTSTAMP:20260422T153926Z
URL:https://business.douglascountygeorgia.com/events/details/the-business-clinic-intensive-strategic-growth-planning-lab-16930
END:VEVENT

END:VCALENDAR
