BEGIN:VCALENDAR
VERSION:2.0
PRODID:-//ChamberMaster//Event Calendar 2.0//EN
METHOD:PUBLISH
X-PUBLISHED-TTL:P3D
REFRESH-INTERVAL:P3D
CALSCALE:GREGORIAN
BEGIN:VEVENT
DTSTART:20200505T160000Z
DTEND:20200505T170000Z
X-MICROSOFT-CDO-ALLDAYEVENT:FALSE
SUMMARY:Virtual Chamber 101: Member Orientation
DESCRIPTION:Learn how to get the most from your Chamber Membership! Chamber 101 educates new and potential members on many opportunities ranging from events to Chamber committees and everything in between. We will meet virtually to continue to social distance.
X-ALT-DESC;FMTTYPE=text/html:<span style="font-size:14px\;"><span style="font-family:arial\;">Learn how to get the most from your Chamber Membership! Chamber 101 educates new and potential members on many opportunities ranging&nbsp\;from events to Chamber committees and everything in between. We will meet virtually to continue to social distance.&nbsp\;</span></span>
LOCATION:GoToMeeting link is sent upon registration.
UID:e.184.10592
SEQUENCE:3
DTSTAMP:20260425T225803Z
URL:https://business.douglascountygeorgia.com/events/details/virtual-chamber-101-member-orientation-10592
END:VEVENT

END:VCALENDAR
