BEGIN:VCALENDAR
VERSION:2.0
PRODID:-//ChamberMaster//Event Calendar 2.0//EN
METHOD:PUBLISH
X-PUBLISHED-TTL:P3D
REFRESH-INTERVAL:P3D
CALSCALE:GREGORIAN
BEGIN:VEVENT
DTSTART:20200514T210000Z
DTEND:20200514T220000Z
X-MICROSOFT-CDO-ALLDAYEVENT:FALSE
SUMMARY:Virtual Happy Hour Networking Event
DESCRIPTION:Missing your Chamber Member friends? Still want to market your business while working remotely? Join us for Virtual After Hours Networking!  Grab a beer or a glass of wine\, get comfy (but not too comfy!)\, and come ready to catch up with fellow Chamber Members and inform us on what's going on with your business! See you there!
X-ALT-DESC;FMTTYPE=text/html:Missing your Chamber Member friends? Still want to market your business while working remotely? Join us for Virtual After Hours Networking!&nbsp\; Grab a beer or a glass of wine\, get comfy (but not too comfy!)\, and come ready to catch up with fellow Chamber Members and inform us on what&#39\;s going on with your business! See you there!&nbsp\;
LOCATION:GoToMeeting link is sent upon registration.
UID:e.184.11415
SEQUENCE:3
DTSTAMP:20260425T225533Z
URL:https://business.douglascountygeorgia.com/events/details/virtual-happy-hour-networking-event-11415
END:VEVENT

END:VCALENDAR
