BEGIN:VCALENDAR
VERSION:2.0
PRODID:-//ChamberMaster//Event Calendar 2.0//EN
METHOD:PUBLISH
X-PUBLISHED-TTL:P3D
REFRESH-INTERVAL:P3D
CALSCALE:GREGORIAN
BEGIN:VEVENT
DTSTART:20270302T140000Z
DTEND:20270302T150000Z
X-MICROSOFT-CDO-ALLDAYEVENT:FALSE
SUMMARY:Virtual Non-Profit Roundtable
DESCRIPTION:Join United Way and the Douglas Chamber on a monthly 1 hour zoom call with Douglas County non-profit organizations. The primary purpose of these calls is to streamline communication among those who are seeking valuable information\, share resources\, and collaborate with a community of like minded professionals. Each session will feature guest speakers from various non-profits\, providing insights into their missions\, current initiatives\, and ways we can support one another. \n\n\n\nWhether you're a volunteer\, donor\, or simply interested in making a difference in our community\, these calls offer a valuable opportunity to stay informed and get involved. Let's work together to create a more connected\, compassionate\, and thriving Douglas County!
X-ALT-DESC;FMTTYPE=text/html:Join United Way and the Douglas Chamber on a monthly 1 hour zoom call with Douglas County non-profit organizations. The primary purpose of these calls is to streamline communication among those who are seeking valuable information\, share resources\, and collaborate with a community of like minded professionals. Each session will feature guest speakers from various non-profits\, providing insights into their missions\, current initiatives\, and ways we can support one another.&nbsp\;<br />\n<br />\nWhether you&#39\;re a volunteer\, donor\, or simply interested in making a difference in our community\, these calls offer a valuable opportunity to stay informed and get involved. Let&#39\;s work together to create a more connected\, compassionate\, and thriving Douglas County!<br />\n<br />\n&nbsp\;
LOCATION:Virtual http://bit.ly/4nhMXIt
UID:e.184.15937
SEQUENCE:3
DTSTAMP:20260421T165848Z
URL:https://business.douglascountygeorgia.com/events/details/virtual-non-profit-roundtable-03-02-2027-15937
END:VEVENT

END:VCALENDAR
