BEGIN:VCALENDAR
VERSION:2.0
PRODID:-//ChamberMaster//Event Calendar 2.0//EN
METHOD:PUBLISH
X-PUBLISHED-TTL:P3D
REFRESH-INTERVAL:P3D
CALSCALE:GREGORIAN
BEGIN:VEVENT
DTSTART:20200514T115500Z
DTEND:20200514T130000Z
X-MICROSOFT-CDO-ALLDAYEVENT:FALSE
SUMMARY:Virtual Nonprofit Roundtable: Response & Resources
DESCRIPTION:Georgia Power Company\, United Way of Greater Atlanta and the Douglas County Chamber host a weekly one hour Zoom call with Douglas County nonprofit organizations every Thursday at 7:55 a.m. The primary purpose of these calls is to streamline communication among those who need the information.\n\n \nSpecially\, these calls will\n\n\n	ensure that services being provided by multiple non-profits (some very small that others are unaware of) are known by all to minimize overlap and provide opportunities to increase efficiency\;\n	identify opportunities for non-profits to shift resources/services to focus on others\;\n	identify opportunities for collaboration and referral\;\n	keep each other apprised of the level of need as it changes (seemingly moment to moment now) and new needs as they arise\; and\n	allow United Way\,  to keep our finger on the pulse of the needs\, the services being provided and by whom\, and the level of need among the non-profits to make the grantmaking process more seamless so those with their boots on the ground can focus their energies on serving.
X-ALT-DESC;FMTTYPE=text/html:<div><span style="color:#000000\;"><span style="font-size:14px\;"><span style="font-family:arial\;">Georgia Power Company\, United Way of Greater Atlanta and the Douglas County Chamber host a weekly one hour Zoom call with Douglas County nonprofit organizations every Thursday at 7:55 a.m.&nbsp\;The primary purpose of these calls is to streamline communication among those who need the information.</span></span></span></div>\n\n<div>&nbsp\;</div>\n<span style="color:#000000\;"><span style="font-size:14px\;"><span style="font-family:arial\;">Specially\, these calls will</span></span></span>\n\n<ul>\n	<li><span style="color:#000000\;"><span style="font-size:14px\;"><span style="font-family:arial\;">ensure that services being provided by multiple non-profits (some very small that others are unaware of) are known by all to minimize overlap and provide opportunities to increase efficiency\;</span></span></span></li>\n	<li><span style="color:#000000\;"><span style="font-size:14px\;"><span style="font-family:arial\;">identify opportunities for non-profits to shift resources/services to focus on others\;</span></span></span></li>\n	<li><span style="color:#000000\;"><span style="font-size:14px\;"><span style="font-family:arial\;">identify opportunities for collaboration and referral\;</span></span></span></li>\n	<li><span style="color:#000000\;"><span style="font-size:14px\;"><span style="font-family:arial\;">keep each other apprised of the level of need as it changes (seemingly moment to moment now) and new needs as they arise\; and</span></span></span></li>\n	<li><span style="color:#000000\;"><span style="font-size:14px\;"><span style="font-family:arial\;">allow United Way\, &nbsp\;to keep our finger on the pulse of the needs\, the services being provided and by whom\, and the level of need among the non-profits to make the grantmaking process more seamless so those with their boots on the ground can focus their energies on serving.</span></span></span></li>\n</ul>\n
LOCATION:Zoom meeting information is sent upon registration.
UID:e.184.11389
SEQUENCE:3
DTSTAMP:20260425T225650Z
URL:https://business.douglascountygeorgia.com/events/details/virtual-nonprofit-roundtable-response-resources-05-14-2020-11389
END:VEVENT

END:VCALENDAR
