BEGIN:VCALENDAR
VERSION:2.0
PRODID:-//ChamberMaster//Event Calendar 2.0//EN
METHOD:PUBLISH
X-PUBLISHED-TTL:P3D
REFRESH-INTERVAL:P3D
CALSCALE:GREGORIAN
BEGIN:VEVENT
DTSTART:20200501T130000Z
DTEND:20200501T140000Z
X-MICROSOFT-CDO-ALLDAYEVENT:FALSE
SUMMARY:Virtual Small Business Roundtable
DESCRIPTION:Join Todd Anduze from the Small Business Development Center and Sara Ray\, DC Chamber President & CEO for an update on financial assistance options during COVID-19.\n\n\n\nThis week's roundtable will feature special guest\, Lisa Crossman with Cobb & Douglas Public Health. Lisa will provide tips and guidance for businesses as they reopen and the importance of keeping health at the forefront of their operations.
X-ALT-DESC;FMTTYPE=text/html:<span style="color:#000000\;">Join Todd Anduze from the Small Business Development Center and Sara Ray\, DC Chamber President &amp\; CEO for an update on financial assistance options during COVID-19.<br />\n<br />\nThis week&#39\;s roundtable will feature special guest\, Lisa Crossman with Cobb &amp\; Douglas Public Health.&nbsp\;Lisa will provide tips and guidance for businesses as they reopen and the importance of keeping health at the forefront of their operations. </span><br />\n&nbsp\;
LOCATION:
UID:e.184.11379
SEQUENCE:3
DTSTAMP:20260425T182405Z
URL:https://business.douglascountygeorgia.com/events/details/virtual-small-business-roundtable-05-01-2020-11379
END:VEVENT

END:VCALENDAR
