BEGIN:VCALENDAR
VERSION:2.0
PRODID:-//ChamberMaster//Event Calendar 2.0//EN
METHOD:PUBLISH
X-PUBLISHED-TTL:P3D
REFRESH-INTERVAL:P3D
CALSCALE:GREGORIAN
BEGIN:VEVENT
DTSTART:20200403T120000Z
DTEND:20200403T130000Z
X-MICROSOFT-CDO-ALLDAYEVENT:FALSE
SUMMARY:Virtual Small Business Roundtable
DESCRIPTION:Join Todd Anduze from the Small Business Development Center and Sara Ray\, DC Chamber President & CEO for an update on financial assistance options during COVID-19.
X-ALT-DESC;FMTTYPE=text/html:Join Todd Anduze from the Small Business Development Center and Sara Ray\, DC Chamber President &amp\; CEO for an update on financial assistance options during COVID-19.
LOCATION:
UID:e.184.11375
SEQUENCE:3
DTSTAMP:20260426T001738Z
URL:https://business.douglascountygeorgia.com/events/details/virtual-small-business-roundtable-11375
END:VEVENT

END:VCALENDAR
