BEGIN:VCALENDAR
VERSION:2.0
PRODID:-//ChamberMaster//Event Calendar 2.0//EN
METHOD:PUBLISH
X-PUBLISHED-TTL:P3D
REFRESH-INTERVAL:P3D
CALSCALE:GREGORIAN
BEGIN:VEVENT
DTSTART:20200508T130000Z
DTEND:20200508T140000Z
X-MICROSOFT-CDO-ALLDAYEVENT:FALSE
SUMMARY:Virtual Small Business Roundtable
DESCRIPTION:Join Todd Anduze from the Small Business Development Center and Sara Ray\, DC Chamber President & CEO for an update on financial assistance options during COVID-19. Our guest speaker this week is Karla Beedles with K. Beedles Consulting. The topic will be "Planning Your Business Comeback" and it will focus on a few key things businesses need to consider to "pivot" their business for success.
X-ALT-DESC;FMTTYPE=text/html:Join Todd Anduze from the Small Business Development Center and Sara Ray\, DC Chamber President &amp\; CEO for an update on financial assistance options during COVID-19. Our guest speaker this week is Karla Beedles with K. Beedles Consulting. The topic will be &ldquo\;Planning Your Business Comeback&rdquo\; and it will focus on a few key things businesses need to consider to &ldquo\;pivot&rdquo\; their business for success.
LOCATION:GoToMeeting link is sent upon registration.
UID:e.184.11404
SEQUENCE:3
DTSTAMP:20260425T225638Z
URL:https://business.douglascountygeorgia.com/events/details/virtual-small-business-roundtable-11404
END:VEVENT

END:VCALENDAR
