BEGIN:VCALENDAR
VERSION:2.0
PRODID:-//ChamberMaster//Event Calendar 2.0//EN
METHOD:PUBLISH
X-PUBLISHED-TTL:P3D
REFRESH-INTERVAL:P3D
CALSCALE:GREGORIAN
BEGIN:VEVENT
DTSTART:20210423T130000Z
DTEND:20210423T140000Z
X-MICROSOFT-CDO-ALLDAYEVENT:FALSE
SUMMARY:Virtual Small Business Roundtable
DESCRIPTION:
X-ALT-DESC;FMTTYPE=text/html:
LOCATION:Link will be sent upon registration.
UID:e.184.12289
SEQUENCE:3
DTSTAMP:20260421T141932Z
URL:https://business.douglascountygeorgia.com/events/details/virtual-small-business-roundtable-12289
END:VEVENT

END:VCALENDAR
