BEGIN:VCALENDAR
VERSION:2.0
PRODID:-//ChamberMaster//Event Calendar 2.0//EN
METHOD:PUBLISH
X-PUBLISHED-TTL:P3D
REFRESH-INTERVAL:P3D
CALSCALE:GREGORIAN
BEGIN:VEVENT
DTSTART:20251106T230000Z
DTEND:20251107T013000Z
X-MICROSOFT-CDO-ALLDAYEVENT:FALSE
SUMMARY:Wealth Building & Real Estate Workshop
DESCRIPTION:Join us on Thursday\, November 6\, 2025\, from 6:00 PM to 8:30 PM at the Douglas County Chamber for an empowering Financial Literacy Workshop focused on wealth building and homeownership education.\n\nThis interactive event will break down real-world strategies for real estate investing\, first-time homeownership\, and financial empowerment. Each speaker session will include a Q&A\, followed by a 30-minute networking mixer to connect with other professionals and community leaders.\n\nAttendees will walk away with:\n\n  Actionable wealth-building strategies through real estate and smart financial planning\n\n  Step-by-step guidance for first-time homebuyers on credit\, mortgages\, and the buying process\n\n  Real insights from experts in finance\, real estate\, and entrepreneurship\n\n  Valuable networking with like-minded young professionals and industry leaders\nRegister Here: https://auctria.events/dcypworkshop
X-ALT-DESC;FMTTYPE=text/html:<p data-end="216" data-start="0">Join us on <strong data-end="41" data-start="11">Thursday\, November 6\, 2025</strong>\, from <strong data-end="70" data-start="48">6:00 PM to 8:30 PM</strong> at the <strong data-end="104" data-start="78">Douglas County Chamber</strong> for an empowering <strong data-end="154" data-start="123">Financial Literacy Workshop</strong> focused on <strong data-end="213" data-start="166">wealth building and homeownership education</strong>.</p>\n\n<p data-end="521" data-start="218">This interactive event will break down real-world strategies for <strong data-end="308" data-start="283">real estate investing</strong>\, <strong data-end="338" data-start="310">first-time homeownership</strong>\, and <strong data-end="369" data-start="344">financial empowerment</strong>. Each speaker session will include a <strong data-end="414" data-start="407">Q&amp\;A</strong>\, followed by a <strong data-end="460" data-start="430">30-minute networking mixer</strong> to connect with other professionals and community leaders.</p>\n\n<p data-end="906" data-is-last-node="" data-is-only-node="" data-start="523"><strong data-end="557" data-start="523">Attendees will walk away with:</strong><br data-end="560" data-start="557" />\n&bull\; Actionable wealth-building strategies through real estate and smart financial planning<br data-end="651" data-is-only-node="" data-start="648" />\n&bull\; Step-by-step guidance for first-time homebuyers on credit\, mortgages\, and the buying process<br data-end="748" data-start="745" />\n&bull\; Real insights from experts in finance\, real estate\, and entrepreneurship<br data-end="825" data-start="822" />\n&bull\; Valuable networking with like-minded young professionals and industry leaders</p>\n<span style="color: rgb(36\, 36\, 36)\; font-family: &quot\;Segoe UI&quot\;\, &quot\;Segoe UI Web (West European)&quot\;\, -apple-system\, BlinkMacSystemFont\, Roboto\, &quot\;Helvetica Neue&quot\;\, sans-serif\; font-size: 14.6667px\;">Register Here:&nbsp\;</span><a href="https://auctria.events/dcypworkshop">https://auctria.events/dcypworkshop</a>
LOCATION:DC Chamber
UID:e.184.16797
SEQUENCE:3
DTSTAMP:20260422T190214Z
URL:https://business.douglascountygeorgia.com/events/details/wealth-building-real-estate-workshop-16797
END:VEVENT

END:VCALENDAR
